BEGIN:VCALENDAR
VERSION:2.0
PRODID:-//ChamberMaster//Event Calendar 2.0//EN
METHOD:PUBLISH
X-PUBLISHED-TTL:P3D
REFRESH-INTERVAL:P3D
CALSCALE:GREGORIAN
BEGIN:VEVENT
DTSTART:20141112T220000Z
DTEND:20141113T003000Z
X-MICROSOFT-CDO-ALLDAYEVENT:FALSE
SUMMARY:Young Professionals Un-Wined
DESCRIPTION:YOUNG PROFESSIONALS UN-WINED (An after-hours networking social)\n\nUN-WINED and unplug as you get to know more about your fellow Young Professionals at this quarterly after-hours networking social. \n\n\n\nDate: Wednesday Nov. 12\, 2014\n\nLocation: AJ's Live\, N88 W16521 Main Street Menomonee Falls\, WI 53051\n\nTime: 4 p.m. to 6:30 pm\n\nCost: $10 per person\n\n\n\nNovember's "Un-Wined" will feature guest speaker Danny Robb with Milwaukee's Big Brothers & Sisters program. The Un-Wined event will also include a wine tasting and appetizers
X-ALT-DESC;FMTTYPE=text/html:<span style="font-size:16px\;"><strong><span style="color:#800080\;"><span style="font-family:arial\,sans-serif\;">YOUNG PROFESSIONALS UN-WINED (An after-hours networking social)</span></span></strong></span><br />\n<em><span style="font-family:arial\,sans-serif\;">UN-WINED and unplug as you get to know more about your fellow Young Professionals at this quarterly after-hours networking social.&nbsp\;</span></em><br />\n<br />\n<span style="font-size:12px\;"><span style="font-family:arial\;">Date: Wednesday Nov. 12\, 2014<br />\nLocation: AJ&#39\;s Live\, <span style="color: rgb(63\, 63\, 63)\; line-height: 19.5px\;">N88 W16521&nbsp\;</span>Main Street Menomonee Falls\, WI 53051<br />\nTime: 4 p.m. to 6:30 pm<br />\nCost: $10 per person</span></span><br />\n<br />\n<span style="font-size:14px\;"><strong>November&#39\;s&nbsp\;&quot\;Un-Wined&quot\; will feature guest speaker Danny Robb with Milwaukee&#39\;s Big Brothers &amp\; Sisters program. The Un-Wined event will also include a wine tasting and appetizers</strong></span><br />\n<br />\n<br />\n<br />\n&nbsp\;
LOCATION:AJ's Live N88 W16521 Main Street Menomonee Falls\, WI 53051
UID:e.596.394
SEQUENCE:3
DTSTAMP:20260420T023004Z
URL:http://business.fallschamber.com/events/details/young-professionals-un-wined-11-12-2014-394
END:VEVENT

END:VCALENDAR
