BEGIN:VCALENDAR
VERSION:2.0
PRODID:-//ChamberMaster//Event Calendar 2.0//EN
METHOD:PUBLISH
X-PUBLISHED-TTL:P3D
REFRESH-INTERVAL:P3D
CALSCALE:GREGORIAN
BEGIN:VEVENT
DTSTART:20140717T220000Z
DTEND:20140718T003000Z
X-MICROSOFT-CDO-ALLDAYEVENT:FALSE
SUMMARY:Young Professionals Un-Wined
DESCRIPTION:YOUNG PROFESSIONALS UN-WINED (An after-hours networking social)\n\nUN-WINED and unplug as you get to know more about your fellow Young Professionals at this quarterly after-hours networking social. \n\n\n\nJuly's "Un-Wined" will feature a wine tasting and appetizers at Ally's Bistro in Menomonee Falls. Come network with other area young professionals as you sample six different wines and enjoy some fabulous appetizers prepared by Ally's Bistro.\n\n\n\nAttendance for this event is limited to 20 people. So\, if you plan to attend please register early.
X-ALT-DESC;FMTTYPE=text/html:<strong><span style="color:#4F6228\;"><span style="font-family:arial\,sans-serif\;">YOUNG PROFESSIONALS UN-WINED (An after-hours networking social)</span></span></strong><br />\n<em><span style="font-family:arial\,sans-serif\;">UN-WINED and unplug as you get to know more about your fellow Young Professionals at this quarterly after-hours networking social.&nbsp\;</span></em><br />\n<br />\nJuly&#39\;s &quot\;Un-Wined&quot\; will feature a wine tasting and appetizers at Ally&#39\;s Bistro in Menomonee Falls. Come network with other area young professionals as you sample six different wines and enjoy some fabulous appetizers prepared by Ally&#39\;s Bistro.<br />\n<br />\n<span style="color:#FF0000\;"><span style="font-size:12px\;"><em>Attendance for this event is limited to 20 people. So\, if you plan to attend please register early.</em></span></span><br />\n&nbsp\;
LOCATION:Ally's Bistro N72 W13350 Lund Ave. Menomonee Falls\, WI 53051
UID:e.596.337
SEQUENCE:3
DTSTAMP:20260422T090843Z
URL:http://business.fallschamber.com/events/details/young-professionals-un-wined-07-17-2014-337
END:VEVENT

END:VCALENDAR
