BEGIN:VCALENDAR
VERSION:2.0
PRODID:-//ChamberMaster//Event Calendar 2.0//EN
METHOD:PUBLISH
X-PUBLISHED-TTL:P3D
REFRESH-INTERVAL:P3D
CALSCALE:GREGORIAN
BEGIN:VEVENT
DTSTART:20131121T230000Z
DTEND:20131122T013000Z
X-MICROSOFT-CDO-ALLDAYEVENT:FALSE
SUMMARY:Young Professionals Happy Hour
DESCRIPTION:Calling ALL Young Professionals... the Menomonee Falls Young Professionals will be meeting for Happy Hour at Trysting Place Pub on Thursday Nov. 21st at 5 pm until ?\n\n\n\nIf you plan to attend...\n\n1. Please RSVP\n\n2. Bring a can good donation for the Menomonee Falls Food Pantry
X-ALT-DESC;FMTTYPE=text/html:<span style="font-size:14px\;"><span style="color:#ff0000\;"><strong>Calling ALL Young Professionals...</strong></span> the Menomonee Falls Young Professionals will be meeting for Happy Hour at Trysting Place Pub on Thursday Nov. 21st at 5 pm until ?<br />\n<br />\nIf you plan to attend...<br />\n1. Please RSVP<br />\n2. Bring a can good donation for the Menomonee Falls Food Pantry</span>
LOCATION:Trysting Place Pub N71 W12980 Appleton Ave. Menomonee Falls\, WI 53051
UID:e.596.286
SEQUENCE:3
DTSTAMP:20260422T221041Z
URL:http://business.fallschamber.com/events/details/young-professionals-happy-hour-11-21-2013-286
END:VEVENT

END:VCALENDAR
