BEGIN:VCALENDAR
VERSION:2.0
PRODID:-//ChamberMaster//Event Calendar 2.0//EN
METHOD:PUBLISH
X-PUBLISHED-TTL:P3D
REFRESH-INTERVAL:P3D
CALSCALE:GREGORIAN
BEGIN:VEVENT
DTSTART:20140320T163000Z
DTEND:20140320T180000Z
X-MICROSOFT-CDO-ALLDAYEVENT:FALSE
SUMMARY:Young Professionals: Food for Thought Luncheon
DESCRIPTION:FOOD FOR THOUGHT LUNCHEON\n\nThe "Food for Thought" luncheon features a guest speaker or roundtable discussion focusing on increasing your business acumen\n\n\n\nMarch Topic: What are your biggest challenges? This topic will be facilitated by professional business coach Michael Stelter of Advanced Business Coaching.
X-ALT-DESC;FMTTYPE=text/html:<span style="color:#FF0000\;"><strong><span style="font-family:arial\,sans-serif\;">FOOD FOR THOUGHT LUNCHEON</span></strong></span><br />\n<em><span style="font-family:arial\,sans-serif\;">The &quot\;Food for Thought&quot\; luncheon features a guest speaker or roundtable discussion focusing on increasing your business acumen</span></em><br />\n<br />\n<span style="font-family:arial\,sans-serif\;"><strong><span style="font-size:16px\;">March Topic: <span style="color:#FF0000\;">What are your biggest challenges?</span> This topic will be facilitated by professional business coach Michael Stelter of Advanced Business Coaching.</span></strong></span><br />\n&nbsp\;
LOCATION:Trysting Place Pub N71W12980 Appleton Ave. Menomonee Falls\, WI 53051
UID:e.596.326
SEQUENCE:3
DTSTAMP:20260422T144152Z
URL:http://business.fallschamber.com/events/details/young-professionals-food-for-thought-luncheon-03-20-2014-326
END:VEVENT

END:VCALENDAR
