BEGIN:VCALENDAR
VERSION:2.0
PRODID:-//ChamberMaster//Event Calendar 2.0//EN
METHOD:PUBLISH
X-PUBLISHED-TTL:P3D
REFRESH-INTERVAL:P3D
CALSCALE:GREGORIAN
BEGIN:VEVENT
DTSTART:20140116T230000Z
DTEND:20140117T013000Z
X-MICROSOFT-CDO-ALLDAYEVENT:FALSE
SUMMARY:Young Professionals After Hours Event
DESCRIPTION:Come "Un-Wined" with other area young professionals on Thursday January 16th at RBG located in the Radisson Hotel Menomonee Falls. \n\n\n\nThis is a great opportunity for some peer networking and to explore what the Menomonee Falls Young Professionals have planned for 2014.
X-ALT-DESC;FMTTYPE=text/html:<span style="font-size:18px\;">Come &quot\;<span style="font-family:comic sans ms\;">Un-Wined&quot\;</span> with other area young professionals on Thursday January 16th at RBG located in the Radisson Hotel Menomonee Falls.&nbsp\;</span><br />\n<br />\n<span style="font-size:16px\;">This is a great opportunity for some peer networking and to explore what the Menomonee Falls Young Professionals have planned for 2014.</span>
LOCATION:Radisson Hotel Menomonee Falls
UID:e.596.292
SEQUENCE:3
DTSTAMP:20260422T193023Z
URL:http://business.fallschamber.com/events/details/young-professionals-after-hours-event-01-16-2014-292
END:VEVENT

END:VCALENDAR
