BEGIN:VCALENDAR
VERSION:2.0
PRODID:-//ChamberMaster//Event Calendar 2.0//EN
METHOD:PUBLISH
X-PUBLISHED-TTL:P3D
REFRESH-INTERVAL:P3D
CALSCALE:GREGORIAN
BEGIN:VEVENT
DTSTART:20140828T210000Z
DTEND:20140829T000000Z
X-MICROSOFT-CDO-ALLDAYEVENT:FALSE
SUMMARY:Yo Cool Frozen Yogurt Ribbon Cutting
DESCRIPTION:http://www.yocoolfrozenyogurt.com/home\n\nMembers\, please join the Menomonee Falls Chamber Ambassadors for a ribbon cutting ceremony at Yo Cool Frozen Yogurt on Thursday Augsut 28th at 4pm. Chamber Members in attendance will receive a free 4oz frozen yougurt. Also\, 9 yr old local singing sensation and recording artist\, Jaid\, will be present to perfom at 5:30pm. You can catch a preview of Jaid's performance tomorrow morning on WTMJ-4's The Morning Blend at 9am
X-ALT-DESC;FMTTYPE=text/html:<a href="http://www.yocoolfrozenyogurt.com/home" rel="nofollow nofollow" style="color: rgb(59\, 89\, 152)\; cursor: pointer\; text-decoration: none\; font-family: Helvetica\, Arial\, 'lucida grande'\, tahoma\, verdana\, arial\, sans-serif\; font-size: 14px\; line-height: 20px\;" target="_blank">http://www.yocoolfrozenyogurt.com/home</a><br style="color: rgb(20\, 24\, 35)\; font-family: Helvetica\, Arial\, 'lucida grande'\, tahoma\, verdana\, arial\, sans-serif\; font-size: 14px\; line-height: 20px\;" />\n<span style="color: rgb(20\, 24\, 35)\; font-family: Helvetica\, Arial\, 'lucida grande'\, tahoma\, verdana\, arial\, sans-serif\; font-size: 14px\; line-height: 20px\;">Members\, please join the Menomonee Falls Chamber Ambassadors for a ribbon cutting ceremony at Yo Cool Frozen Yogurt on Thursday Augsut 28th at 4pm. Chamber Members in attendance will receive a free 4oz</span><span class="text_exposed_show" style="display: inline\; color: rgb(20\, 24\, 35)\; font-family: Helvetica\, Arial\, 'lucida grande'\, tahoma\, verdana\, arial\, sans-serif\; font-size: 14px\; line-height: 20px\;">&nbsp\;frozen yougurt. Also\, 9 yr old local singing sensation and recording artist\, Jaid\, will be present to perfom at 5:30pm. You can catch a preview of Jaid&#39\;s performance tomorrow morning on WTMJ-4&#39\;s The Morning Blend at 9am</span>
LOCATION:N78 W14579 Appleton Ave.\, Menomonee Falls\, Wisconsin 53051 Phone. 262-255-1825
UID:e.596.370
SEQUENCE:3
DTSTAMP:20260420T072240Z
URL:http://business.fallschamber.com/events/details/yo-cool-frozen-yogurt-ribbon-cutting-08-28-2014-370
END:VEVENT

END:VCALENDAR
