BEGIN:VCALENDAR
VERSION:2.0
PRODID:-//ChamberMaster//Event Calendar 2.0//EN
METHOD:PUBLISH
X-PUBLISHED-TTL:P3D
REFRESH-INTERVAL:P3D
CALSCALE:GREGORIAN
BEGIN:VEVENT
DTSTART:20140520T123000Z
DTEND:20140520T140000Z
X-MICROSOFT-CDO-ALLDAYEVENT:FALSE
SUMMARY:Wellness Speaker Series: Sponsored by Froedtert & Mediacal College of Wisconsin
DESCRIPTION:Tackling the Vending Machine and Office Workouts\n\nIt's crunch time\, and the snack machine is whispering your name. Pushing the wrong buttons could be a diet disaster. We'll cover the do's and don'ts of vending machine snacking\, how to make the right decisions and other healthier options. In addition\, we'll discuss exercises that you can do at the office during the day to relieve stress and improve your health.\n\n\n\nThis topic will be presented by: Brad Kemm\, Health Educator from Froedtert & the Medical College of Wisconsin Workforce Health
X-ALT-DESC;FMTTYPE=text/html:<span style="font-size:12px\;"><span style="font-family:comic sans ms\;"><span style="font-size:16px\;"><span style="color:#FF0000\;"><strong>Tackling the Vending Machine and Office Workouts</strong></span></span><br />\n<span style="font-size:14px\;">It&#39\;s crunch time\, and the snack machine is whispering your name. Pushing the wrong buttons could be a diet disaster. We&rsquo\;ll cover the do&rsquo\;s and don&rsquo\;ts of vending machine snacking\, how to make the right decisions and other healthier options. In addition\, we&rsquo\;ll discuss exercises that you can do at the office during the day to relieve stress and improve your health.<br />\n<br />\nThis topic will be presented by:&nbsp\;Brad Kemm\, Health Educator from Froedtert &amp\; the Medical College of Wisconsin Workforce Health&nbsp\;</span></span></span>
LOCATION:Froedtert & Medical College of Wisconsin Orthopedic\, Sports and Spine Clinic N91 W15750 Falls Parkway Menomonee Falls\, WI 53051 Conference Rooms A & B (The clinic is next to the WI Athletic Club)
UID:e.596.331
SEQUENCE:3
DTSTAMP:20260422T115006Z
URL:http://business.fallschamber.com/events/details/wellness-speaker-series-sponsored-by-froedtert-mediacal-college-of-wisconsin-05-20-2014-331
END:VEVENT

END:VCALENDAR
