BEGIN:VCALENDAR
VERSION:2.0
PRODID:-//ChamberMaster//Event Calendar 2.0//EN
METHOD:PUBLISH
X-PUBLISHED-TTL:P3D
REFRESH-INTERVAL:P3D
CALSCALE:GREGORIAN
BEGIN:VEVENT
DTSTART:20140722T123000Z
DTEND:20140722T140000Z
X-MICROSOFT-CDO-ALLDAYEVENT:FALSE
SUMMARY:Wellness Speaker Series CANCELLED and will be rescheduled for a later date.
DESCRIPTION:You make sure your business is up to par\, now make sure your cardiac health is too! \n\n\n\nThe all important topic of Cardiac Health will be presented by Aurora Advanced Healthcare physician Hardeep Ahuja\, MD - Family Medicine\n\n\n\nPlease register early for this event as seating is limited to 20 participants.
X-ALT-DESC;FMTTYPE=text/html:<span style="font-family:arial\;"><strong><span style="font-size:14px\;"><em><span style="color:#FF0000\;">You make sure your business is up to par\, now make sure your cardiac health is too!&nbsp\;</span></em></span></strong></span><br />\n<br />\n<strong>The all important topic of Cardiac Health will be presented by Aurora Advanced Healthcare physician Hardeep&nbsp\;Ahuja\, MD - Family Medicine</strong><br />\n<br />\nPlease register early for this event as seating is limited to 20 participants.<br />\n<br />\n&nbsp\;
LOCATION:Aurora Advanced Healthcare N84 W16889 Menomonee Ave. Menomonee Falls\, WI 53051
UID:e.596.339
SEQUENCE:3
DTSTAMP:20260422T085514Z
URL:http://business.fallschamber.com/events/details/wellness-speaker-series-cancelled-and-will-be-rescheduled-for-a-later-date-07-22-2014-339
END:VEVENT

END:VCALENDAR
