BEGIN:VCALENDAR
VERSION:2.0
PRODID:-//ChamberMaster//Event Calendar 2.0//EN
METHOD:PUBLISH
X-PUBLISHED-TTL:P3D
REFRESH-INTERVAL:P3D
CALSCALE:GREGORIAN
BEGIN:VEVENT
DTSTART:20141031T223000Z
DTEND:20141101T003000Z
X-MICROSOFT-CDO-ALLDAYEVENT:FALSE
SUMMARY:Village of Menomonee Falls Trick or Treat
DESCRIPTION:Village of Menomonee Falls Trick or Treat
X-ALT-DESC;FMTTYPE=text/html:Village of Menomonee Falls Trick or Treat
LOCATION:Village of Menomonee Falls
UID:e.596.396
SEQUENCE:3
DTSTAMP:20260420T060308Z
URL:http://business.fallschamber.com/events/details/village-of-menomonee-falls-trick-or-treat-10-31-2014-396
END:VEVENT

END:VCALENDAR
