BEGIN:VCALENDAR
VERSION:2.0
PRODID:-//ChamberMaster//Event Calendar 2.0//EN
METHOD:PUBLISH
X-PUBLISHED-TTL:P3D
REFRESH-INTERVAL:P3D
CALSCALE:GREGORIAN
BEGIN:VEVENT
DTSTART:20141105T190000Z
DTEND:20141105T203000Z
X-MICROSOFT-CDO-ALLDAYEVENT:FALSE
SUMMARY:Veteran's Day Celebration
DESCRIPTION:Veteran's Day Celebration presented by the School District of Menomonee Falls and The Eirenicon Club
X-ALT-DESC;FMTTYPE=text/html:Veteran&#39\;s Day Celebration presented by the School District of Menomonee Falls and The Eirenicon Club
LOCATION:Menomonee Falls Community Center Gymnasium W152N8645 Margaret Road Menomonee Falls\, WI 53051 262-255-8460
UID:e.596.392
SEQUENCE:3
DTSTAMP:20260420T022905Z
URL:http://business.fallschamber.com/events/details/veteran-s-day-celebration-11-05-2014-392
END:VEVENT

END:VCALENDAR
