BEGIN:VCALENDAR
VERSION:2.0
PRODID:-//ChamberMaster//Event Calendar 2.0//EN
METHOD:PUBLISH
X-PUBLISHED-TTL:P3D
REFRESH-INTERVAL:P3D
CALSCALE:GREGORIAN
BEGIN:VEVENT
DTSTART;VALUE=DATE:20141018
DTEND;VALUE=DATE:20141019
TRANSP:TRANSPARENT
X-MICROSOFT-CDO-ALLDAYEVENT:TRUE
SUMMARY:TriMathlon
DESCRIPTION:Mathnasium's TriMathlon is an annual math event held over the course of one weekend at Mathnasium Learning Centers across the United States and Canada. This fun-filled event allows elementary school kids to demonstrate their mathematical skills in an atmosphere that is festive and where every child earns money for local schools!\n\n \nRegistration for Mathnasium's TriMathlon is free and open to all students in second\, third\, fourth\, and fifth grades attending public\, private\, or home school. Students do not have to be enrolled at Mathnasium to participate. \n\n\n\nThis exciting event includes:\n\n\n	A fun goody bag for every student who participates\, plus a FREE ($19.99 value) downloadable Math Plinko game* from Lakeshore if\n\n	 they \n	register by September 30th!\n	Student participation supports local schools.  All TriMathlon participants raise money for local schools just by attending the event! \n	Mathnasium\n	 will make a donation to the respective PTO/PTA on behalf of the student who participates in TriMathlon.\n	Local and Grand Prize winners\n\nThe event is open to kids in 2nd\, 3rd\, 4th\, and 5th grades and will be held on Saturday October 18\, 2014. Similar to the way a triathlon tests an athlete's physical fitness through three athletic challenges\, the TriMathlon tests a mathlete's mental fitness through three fun-filled math challenges.\n\n\n\nFor more information or to register\, visit www.mathnasiumtrimathlon.com
X-ALT-DESC;FMTTYPE=text/html:<div style="font-size:small\;font-family:arial\;"><span style="font-size:14px\;"><span style="font-family:arial\,helvetica\,sans-serif\;">Mathnasium&rsquo\;s TriMathlon is an annual math event held over the course of one weekend at Mathnasium Learning Centers across the United States and Canada. This fun-filled event allows elementary school kids to demonstrate their mathematical skills in an atmosphere that is festive and where every child earns money for local schools!</span></span></div>\n\n<div style="font-size:small\;font-family:arial\;">&nbsp\;</div>\n<span style="font-size:14px\;"><span style="font-family:arial\,helvetica\,sans-serif\;">Registration for Mathnasium&rsquo\;s TriMathlon is <strong>free</strong>&nbsp\;and open to all students in second\, third\, fourth\, and fifth grades attending public\, private\, or home school. Students do not have to be enrolled at Mathnasium to participate.&nbsp\;</span><br />\n<br />\n<strong><span style="font-family:arial\,helvetica\,sans-serif\;">This exciting event includes:</span></strong></span>\n\n<ul>\n	<li style="margin-left:15px\;"><span style="font-family:arial\,helvetica\,sans-serif\;"><span style="font-size:14px\;">A fun goody bag for every student who participates\, plus a FREE ($19.99 value) downloadable Math Plinko game* from Lakeshore if</span></span>\n\n	<div style="display:inline\;"><span style="font-family:arial\,helvetica\,sans-serif\;"><span style="font-size:14px\;">&nbsp\;they<strong>&nbsp\;</strong></span></span></div>\n	<span style="font-family:arial\,helvetica\,sans-serif\;"><span style="font-size:14px\;"><strong>register by September 30th!</strong></span></span></li>\n	<li style="margin-left:15px\;"><span style="font-family:arial\,helvetica\,sans-serif\;"><span style="font-size:14px\;">Student participation supports local schools. &nbsp\;All TriMathlon participants raise money for local schools just by attending the event!&nbsp\;</span></span>\n	<div style="display:inline\;"><span style="font-family:arial\,helvetica\,sans-serif\;"><span style="font-size:14px\;"><strong>Mathnasium</strong></span></span></div>\n	<span style="font-family:arial\,helvetica\,sans-serif\;"><span style="font-size:14px\;"><strong>&nbsp\;will make a donation to the respective PTO/PTA on behalf of the student who participates in TriMathlon.</strong></span></span></li>\n	<li style="margin-left:15px\;"><span style="font-family:arial\,helvetica\,sans-serif\;"><span style="font-size:14px\;">Local and Grand Prize winners</span></span></li>\n</ul>\n<span style="font-size:14px\;"><span style="font-family:arial\,helvetica\,sans-serif\;">The event is open to kids in 2nd\, 3rd\, 4th\, and 5th grades and will be held on&nbsp\;</span><strong style="font-family:arial\, helvetica\, sans-serif\;">Saturday October 18\, 2014</strong><span style="font-family:arial\,helvetica\,sans-serif\;">. Similar to the way a triathlon tests an athlete&rsquo\;s physical fitness through three athletic challenges\, the TriMathlon tests a mathlete&rsquo\;s mental fitness through three fun-filled math challenges.<br />\n<br />\nFor more information or to register\, visit <strong>www.mathnasiumtrimathlon.com</strong></span></span><br />\n&nbsp\;
LOCATION:Mathnasium of Menomonee Falls\, N78W14569 Appleton Ave\, Menomonee Falls\, WI - 53051
UID:e.596.379
SEQUENCE:3
DTSTAMP:20260420T040139Z
URL:http://business.fallschamber.com/events/details/trimathlon-10-18-2014-379
END:VEVENT

END:VCALENDAR
