BEGIN:VCALENDAR
VERSION:2.0
PRODID:-//ChamberMaster//Event Calendar 2.0//EN
METHOD:PUBLISH
X-PUBLISHED-TTL:P3D
REFRESH-INTERVAL:P3D
CALSCALE:GREGORIAN
BEGIN:VEVENT
DTSTART;VALUE=DATE:20140724
DTEND;VALUE=DATE:20140725
TRANSP:TRANSPARENT
X-MICROSOFT-CDO-ALLDAYEVENT:TRUE
SUMMARY:Tri-County & West Suburban YMCA Sport Shoot Fundraiser 2014
DESCRIPTION:Tri-County& West Suburban YMCA 4th Annual Sport Shoot Fundraiser at the Waukesha Gun Club!\n\n\n\nFor 150 years\, the YMCA has been a place for people of all ages to grow healthy in spirit\, mind and body.  It is a safe haven\, a place of community\, and a source of support for thousands each year.  When you participate in our Sport Shoot event\, not only do you have fun\, you support your community!  All proceeds from our Sport Shoot Fundraiser go towards scholarships for those who otherwise couldn't afford YMCA classes\, memberships and programs.  With the help of donors like you\, we are able to change many lives and bring families together.\n\n\n\nShooting Event Includes:\n\n\n\n25 Trap\n\n50 Sporting Clays\n\n2-15 Bird Flurries\n\n\n\nLunch\, games\, raffles\, post shoot appetizers and live auction items!\n\n\n\nWhat to Bring:\n\n\n\nShotgun (Limited rentals available at the club)\n\nShells (available at club Pro Shop)\n\nEye/ear protection (available at club Pro Shop)\n\n\n\nPlease join us for a great day of sport shooting fun!
X-ALT-DESC;FMTTYPE=text/html:<v:stroke joinstyle="miter"> <v:path gradientshapeok="t" o:connecttype="rect"> </v:path></v:stroke>\n<div class="shape" style="padding: 2.88pt\;" v:shape="_x0000_s1026">\n<p class="IntroductionSubhead" style="mso-pagination: none\;"><span lang="en-US" style="color: rgb(192\, 0\, 0)\; line-height: 120%\; font-family: &quot\;Cachet Bold&quot\;\; font-size: 26pt\; mso-ansi-language: en-US\; mso-default-font-family: &quot\;Cachet Bold&quot\;\; mso-ascii-font-family: &quot\;Cachet Bold&quot\;\; mso-latin-font-family: &quot\;Cachet Bold&quot\;\; mso-greek-font-family: Verdana\; mso-cyrillic-font-family: Verdana\; mso-latinext-font-family: &quot\;Cachet Bold&quot\;\; mso-ligatures: none\; language: en-US\;"><v:roundrect arcsize="10923f" fillcolor="white [7]" filled="f" id="_x0000_s1027" o:cliptowrap="t" o:preferrelative="t" strokecolor="white [7]" strokeweight="5.75pt" style="left: 449.9pt\; top: 18.26pt\; width: 411.97pt\; height: 231.73pt\; position: absolute\; z-index: 1\; mso-wrap-distance-left: 2.88pt\; mso-wrap-distance-top: 2.88pt\; mso-wrap-distance-right: 2.88pt\; mso-wrap-distance-bottom: 2.88pt\;"> <v:fill color2="white [7]"> <v:stroke color2="white [7]"> <o:left color="black [0]" color2="white [7]" v:ext="view" weight="6pt"> <o:top color="black [0]" color2="white [7]" v:ext="view" weight="6pt"> <o:right color="black [0]" color2="white [7]" v:ext="view" weight="6pt"> <o:bottom color="black [0]" color2="white [7]" v:ext="view" weight="6pt"> <o:column color="black [0]" color2="white [7]" v:ext="view"> </o:column></o:bottom></o:right></o:top></o:left></v:stroke> <v:imagedata o:title="2013081695125420" src="file:///C:\\Users\\dnash\\AppData\\Local\\Temp\\msohtmlclip1\\01\\clip_image001.jpg"> <v:shadow color="#b2b2b2" offset="5pt\,6pt" opacity=".5"> <v:path o:extrusionok="f"> <o:lock aspectratio="t" v:ext="edit"> </o:lock></v:path></v:shadow></v:imagedata></v:fill></v:roundrect> <font color="#000000" face="Times New Roman" size="3"> </font><span><strong>Tri-County&amp\; West Suburban YMCA 4<sup>th</sup> Annual Sport Shoot Fundraiser at the Waukesha Gun Club!</strong><br />\n<br />\n<span style="color: rgb(64\, 64\, 64)\; line-height: 95%\; font-family: &quot\;Cachet Book&quot\;\,&quot\;sans-serif&quot\;\; font-size: 12pt\; mso-themecolor: text1\; mso-themetint: 191\;">For 150 years\, the YMCA has been a place for people of all ages to grow healthy in spirit\, mind and body. &nbsp\;It is a safe haven\, a place of community\, and a source of support for thousands each year.&nbsp\; When you participate in our Sport Shoot event\, not only do you have fun\, you support your community!&nbsp\; </span></span></span><span style="color: rgb(64\, 64\, 64)\; line-height: 95%\; font-family: &quot\;Cachet Book&quot\;\,&quot\;sans-serif&quot\;\; font-size: 12pt\; mso-themecolor: text1\; mso-themetint: 191\;">All proceeds from our Sport Shoot Fundraiser&nbsp\;go towards&nbsp\;<span style="letter-spacing: -0.25pt\;">scholarships for those who otherwise couldn&#39\;t afford YMCA classes\, memberships and programs.&nbsp\; </span></span><span style="color: rgb(64\, 64\, 64)\; line-height: 95%\; font-family: &quot\;Cachet Book&quot\;\,&quot\;sans-serif&quot\;\; font-size: 12pt\; mso-themecolor: text1\; mso-themetint: 191\;">With the help of donors like you\, we are able to change many lives and bring families together.<br />\n<br />\nShooting Event Includes:<br />\n<br />\n25 Trap<br />\n50 Sporting Clays<br />\n2-15 Bird Flurries<br />\n<br />\nLunch\, games\, raffles\, post shoot appetizers&nbsp\;and live auction items!<br />\n<br />\nWhat to Bring:<br />\n<br />\nShotgun (Limited rentals available at the club)<br />\nShells (available at club Pro Shop)<br />\nEye/ear protection (available at club Pro Shop)<br />\n<br />\nPlease join us for a great day of sport shooting fun!</span></p>\n\n<p class="MsoNoSpacing" style="margin: 0in 0in 0pt\; line-height: 95%\;">&nbsp\;</p>\n\n<p class="MsoNoSpacing" style="margin: 0in 0in 0pt\; line-height: 95%\;"><span style="color: rgb(64\, 64\, 64)\; line-height: 95%\; font-family: &quot\;Cachet Book&quot\;\,&quot\;sans-serif&quot\;\; font-size: 12pt\; mso-themecolor: text1\; mso-themetint: 191\;"><o:p>&nbsp\;</o:p></span></p>\n\n<p class="MsoNoSpacing" style="margin: 0in 0in 0pt\; line-height: 95%\;">&nbsp\;</p>\n\n<p class="IntroductionSubhead" style="mso-pagination: none\;"><br />\n&nbsp\;</p>\n\n<p class="IntroductionSubhead" style="mso-pagination: none\;">&nbsp\;</p>\n\n<p class="MsoNormal" style="margin: 0in 0in 0pt\; line-height: 95%\;"><span style="color: rgb(64\, 64\, 64)\; line-height: 95%\; font-family: &quot\;Cachet Book&quot\;\,&quot\;sans-serif&quot\;\; font-size: 12pt\; mso-fareast-font-family: Calibri\; mso-fareast-theme-font: minor-latin\; mso-bidi-font-family: &quot\;Times New Roman&quot\;\; mso-bidi-theme-font: minor-bidi\; mso-themecolor: text1\; mso-themetint: 191\;"><o:p>&nbsp\;</o:p></span></p>\n\n<p class="IntroductionSubhead" style="mso-pagination: none\;">&nbsp\;</p>\n\n<p class="IntroductionSubhead" style="mso-pagination: none\;">&nbsp\;</p>\n\n<p class="IntroductionSubhead" style="mso-pagination: none\;">&nbsp\;</p>\n\n<p class="MsoNormal" style="margin: 0in 0in 0pt 1in\;"><span style="color: rgb(64\, 64\, 64)\; line-height: 115%\; font-family: &quot\;Cachet Book&quot\;\,&quot\;sans-serif&quot\;\; font-size: 12pt\; mso-themecolor: text1\; mso-themetint: 191\;"><span style="mso-spacerun: yes\;">&nbsp\;&nbsp\; </span><span style="letter-spacing: -0.25pt\;"><o:p></o:p></span></span></p>\n\n<p class="IntroductionSubhead" style="mso-pagination: none\;">&nbsp\;</p>\n\n<p class="MsoNormal" style="margin: 0in 0in 0pt\; line-height: 95%\;"><span style="color: rgb(64\, 64\, 64)\; line-height: 95%\; font-family: &quot\;Cachet Book&quot\;\,&quot\;sans-serif&quot\;\; font-size: 12pt\; mso-themecolor: text1\; mso-themetint: 191\;"><span style="letter-spacing: -0.25pt\;"><o:p></o:p></span></span></p>\n\n<p class="IntroductionSubhead" style="mso-pagination: none\;">&nbsp\;</p>\n\n<p class="MsoNoSpacing" style="margin: 0in 0in 0pt\; line-height: 95%\;"><span style="color: rgb(64\, 64\, 64)\; line-height: 95%\; letter-spacing: -0.25pt\; font-family: &quot\;Cachet Book&quot\;\,&quot\;sans-serif&quot\;\; font-size: 12pt\; mso-fareast-font-family: Calibri\; mso-bidi-font-family: &quot\;Times New Roman&quot\;\; mso-themecolor: text1\; mso-themetint: 191\;"><o:p>&nbsp\;</o:p></span></p>\n\n<p class="IntroductionSubhead" style="mso-pagination: none\;">&nbsp\;</p>\n\n<p class="MsoNoSpacing" style="margin: 0in 0in 0pt\; line-height: 95%\;"><span style="color: rgb(64\, 64\, 64)\; line-height: 95%\; font-family: &quot\;Cachet Book&quot\;\,&quot\;sans-serif&quot\;\; font-size: 12pt\; mso-themecolor: text1\; mso-themetint: 191\;"><o:p></o:p></span></p>\n\n<p class="IntroductionSubhead" style="mso-pagination: none\;">&nbsp\;</p>\n</div>\n
LOCATION:Waukesha Gun Club N22 W23170 Watertown Road Waukesha\, WI 53188
UID:e.596.361
SEQUENCE:3
DTSTAMP:20260422T085323Z
URL:http://business.fallschamber.com/events/details/tri-county-west-suburban-ymca-sport-shoot-fundraiser-2014-07-24-2014-361
END:VEVENT

END:VCALENDAR
