BEGIN:VCALENDAR
VERSION:2.0
PRODID:-//ChamberMaster//Event Calendar 2.0//EN
METHOD:PUBLISH
X-PUBLISHED-TTL:P3D
REFRESH-INTERVAL:P3D
CALSCALE:GREGORIAN
BEGIN:VEVENT
DTSTART:20140827T123000Z
DTEND:20140827T143000Z
X-MICROSOFT-CDO-ALLDAYEVENT:FALSE
SUMMARY:"Thanks to you!!"
DESCRIPTION:Please join us for breakfast to go!\n\n\n\nWe want to Thank You\, members of the community\, for everything you do!\n\n\n\nThe breakfast will include yogurt parfait\, fresh fruit\, bagel with cream cheese\, and a "Menomonee Place Monster Cookie"!\n\n\n\nPlease RSVP to Gayle at 920-917-8158 or for any questions.\n\n\n\nSee you there!
X-ALT-DESC;FMTTYPE=text/html:Please join us for breakfast to go!<br />\n<br />\nWe want to Thank You\, members of the community\, for everything you do!<br />\n<br />\nThe breakfast will include yogurt parfait\, fresh fruit\, bagel with cream cheese\, and a &quot\;Menomonee Place Monster Cookie&quot\;!<br />\n<br />\nPlease RSVP to Gayle at 920-917-8158 or for any questions.<br />\n<br />\nSee you there!
LOCATION:Menomonee Place N84 W17147 Menomonee Avenue Menomonee Falls\, WI 53051
UID:e.596.366
SEQUENCE:3
DTSTAMP:20260420T071950Z
URL:http://business.fallschamber.com/events/details/thanks-to-you-08-27-2014-366
END:VEVENT

END:VCALENDAR
