BEGIN:VCALENDAR
VERSION:2.0
PRODID:-//ChamberMaster//Event Calendar 2.0//EN
METHOD:PUBLISH
X-PUBLISHED-TTL:P3D
REFRESH-INTERVAL:P3D
CALSCALE:GREGORIAN
BEGIN:VEVENT
DTSTART:20140409T160000Z
DTEND:20140409T200000Z
X-MICROSOFT-CDO-ALLDAYEVENT:FALSE
SUMMARY:Swagapalooza
DESCRIPTION:SWAG Promotions is pleased to host Swagapalooza 2014.  Celebrating 16 years in business\, we look forward to introducing you to some of our preferred vendors.  You'll see new products\, ask questions\, get samples\, have lunch and meet the SWAG team. \n\nMultiple Vendors - Thousands of Products\n\nSWAG Promotions has been in the screen printing and promotional business since 1998 and has grown to include full marketing solutions\, graphic design\, and fulfillment programs.
X-ALT-DESC;FMTTYPE=text/html:SWAG Promotions is pleased to host Swagapalooza 2014.&nbsp\; Celebrating 16 years in business\, we look forward to introducing you to some of our preferred vendors.&nbsp\; You&#39\;ll see new products\, ask questions\, get samples\, have lunch and meet the SWAG team.&nbsp\;<br />\nMultiple Vendors - Thousands of Products<br />\nSWAG Promotions has been in the screen printing and promotional business since 1998 and has grown to include full marketing solutions\, graphic design\, and fulfillment programs.
LOCATION:Silver Spring Country Club N56W21318 Silver Spring Drive Menomonee Falls\, WI 53051
UID:e.596.328
SEQUENCE:3
DTSTAMP:20260422T132753Z
URL:http://business.fallschamber.com/events/details/swagapalooza-04-09-2014-328
END:VEVENT

END:VCALENDAR
