BEGIN:VCALENDAR
VERSION:2.0
PRODID:-//ChamberMaster//Event Calendar 2.0//EN
METHOD:PUBLISH
X-PUBLISHED-TTL:P3D
REFRESH-INTERVAL:P3D
CALSCALE:GREGORIAN
BEGIN:VEVENT
DTSTART:20130630T143000Z
DTEND:20130630T153000Z
X-MICROSOFT-CDO-ALLDAYEVENT:FALSE
SUMMARY:Sunday Service at St. Pauls
DESCRIPTION:Sunday Church Service
X-ALT-DESC;FMTTYPE=text/html:Sunday Church Service
LOCATION:St. Pauls UCC N89W16856 Appleton Ave. Menomonee Falls\, WI 53051
UID:e.596.232
SEQUENCE:3
DTSTAMP:20260423T053709Z
URL:http://business.fallschamber.com/events/details/sunday-service-at-st-pauls-06-30-2013-232
END:VEVENT

END:VCALENDAR
