BEGIN:VCALENDAR
VERSION:2.0
PRODID:-//ChamberMaster//Event Calendar 2.0//EN
METHOD:PUBLISH
X-PUBLISHED-TTL:P3D
REFRESH-INTERVAL:P3D
CALSCALE:GREGORIAN
BEGIN:VEVENT
DTSTART;VALUE=DATE:20141101
DTEND;VALUE=DATE:20141102
TRANSP:TRANSPARENT
X-MICROSOFT-CDO-ALLDAYEVENT:TRUE
SUMMARY:Sportz Pub & Grill Halloween Party!!!
DESCRIPTION:Come join us for Sportz Halloween Costume Party.  November 1st from 10pm-2am!  We will have a DJ\, Cash prizes for best costume\, Free Food\, and Drink Specials all night!!
X-ALT-DESC;FMTTYPE=text/html:Come join us for Sportz Halloween Costume Party. &nbsp\;November 1st from 10pm-2am! &nbsp\;We will have a DJ\, Cash prizes for best costume\, Free Food\, and Drink Specials all night!!
LOCATION:Sportz Pub & Grill N80 W13003 FON DU LAC AVE Menomonee Falls\, Wisconsin 53051
UID:e.596.393
SEQUENCE:3
DTSTAMP:20260420T023407Z
URL:http://business.fallschamber.com/events/details/sportz-pub-grill-halloween-party-11-01-2014-393
END:VEVENT

END:VCALENDAR
