BEGIN:VCALENDAR
VERSION:2.0
PRODID:-//ChamberMaster//Event Calendar 2.0//EN
METHOD:PUBLISH
X-PUBLISHED-TTL:P3D
REFRESH-INTERVAL:P3D
CALSCALE:GREGORIAN
BEGIN:VEVENT
DTSTART;VALUE=DATE:20141206
DTEND;VALUE=DATE:20141208
TRANSP:TRANSPARENT
X-MICROSOFT-CDO-ALLDAYEVENT:TRUE
SUMMARY:Sportz Pub & Grill 1 Year Anniversary and Customer Appreciation Party
DESCRIPTION:Come join us to celebrate our 1 Year Anniversary!!   We of course would not be where we are without our customers! So to thank everyone for supporting us we will be having Free Food\, Raffles\, Giveaways\, Drink Specials\, and Much more!!  We will have this all day long so everyone can join in on the celebration!!
X-ALT-DESC;FMTTYPE=text/html:Come join us to celebrate our 1 Year Anniversary!! &nbsp\; We of course would not be where we are without our customers! So to thank everyone for supporting us we will be having Free Food\, Raffles\, Giveaways\, Drink Specials\, and Much more!! &nbsp\;We will have this all day long so everyone can join in on the celebration!!&nbsp\;
LOCATION:Sportz Pub & Grill N80W13003 Fon Du Lac Ave\, Menomonee Falls
UID:e.596.398
SEQUENCE:3
DTSTAMP:20260420T012157Z
URL:http://business.fallschamber.com/events/details/sportz-pub-grill-1-year-anniversary-and-customer-appreciation-party-12-06-2014-398
END:VEVENT

END:VCALENDAR
