BEGIN:VCALENDAR
VERSION:2.0
PRODID:-//ChamberMaster//Event Calendar 2.0//EN
METHOD:PUBLISH
X-PUBLISHED-TTL:P3D
REFRESH-INTERVAL:P3D
CALSCALE:GREGORIAN
BEGIN:VEVENT
DTSTART:20140319T190000Z
DTEND:20140319T200000Z
X-MICROSOFT-CDO-ALLDAYEVENT:FALSE
SUMMARY:Senior Hot Topics
DESCRIPTION:Senior Hot Topics\n\n*    Solutions for Low Vision Musculuar Degeneration\n\n*    Grief & Loss
X-ALT-DESC;FMTTYPE=text/html:Senior Hot Topics<br />\n*&nbsp\;&nbsp\;&nbsp\;&nbsp\;Solutions for Low Vision Musculuar Degeneration<br />\n*&nbsp\;&nbsp\;&nbsp\;&nbsp\;Grief &amp\; Loss
LOCATION:Village at the Falls
UID:e.596.318
SEQUENCE:3
DTSTAMP:20260422T143951Z
URL:http://business.fallschamber.com/events/details/senior-hot-topics-03-19-2014-318
END:VEVENT

END:VCALENDAR
