BEGIN:VCALENDAR
VERSION:2.0
PRODID:-//ChamberMaster//Event Calendar 2.0//EN
METHOD:PUBLISH
X-PUBLISHED-TTL:P3D
REFRESH-INTERVAL:P3D
CALSCALE:GREGORIAN
BEGIN:VEVENT
DTSTART:20130914T150000Z
DTEND:20130914T230000Z
X-MICROSOFT-CDO-ALLDAYEVENT:FALSE
SUMMARY:Sam's Club - Join and Save Event
DESCRIPTION:Join and Save Event\n\n\n\nSpecial Membership Offers\n\n\n\nNon-members can shop with no upcharge -- ONE DAY ONLY
X-ALT-DESC;FMTTYPE=text/html:Join and Save Event<br />\n<br />\nSpecial Membership Offers<br />\n<br />\nNon-members can shop with no upcharge -- ONE DAY ONLY
LOCATION:Your Local Sam's Club
UID:e.596.280
SEQUENCE:3
DTSTAMP:20260423T010645Z
URL:http://business.fallschamber.com/events/details/sam-s-club-join-and-save-event-09-14-2013-280
END:VEVENT

END:VCALENDAR
