BEGIN:VCALENDAR
VERSION:2.0
PRODID:-//ChamberMaster//Event Calendar 2.0//EN
METHOD:PUBLISH
X-PUBLISHED-TTL:P3D
REFRESH-INTERVAL:P3D
CALSCALE:GREGORIAN
BEGIN:VEVENT
DTSTART:20130215T170000Z
DTEND:20130215T190000Z
X-MICROSOFT-CDO-ALLDAYEVENT:FALSE
SUMMARY:Safe Babies Healthy Families - Sweetheart Luncheon & Fashion Show
DESCRIPTION:Save the Date for the Safe Babies Healthy Families Sweetheart Luncheon & Fashion Show.  Event features the "Sweethearts" of this year's event our very own Board of Directors and raffle\, gourmet lunch\, fashion show featuring local boutiques and designer fashions from Boston Store.
X-ALT-DESC;FMTTYPE=text/html:Save the Date for the Safe Babies Healthy Families Sweetheart Luncheon &amp\; Fashion Show.&nbsp\; Event features the &quot\;Sweethearts&quot\; of this year&#39\;s event our very own Board of Directors and raffle\, gourmet lunch\, fashion show featuring local boutiques and designer fashions from Boston Store.
LOCATION:Milwaukee Marriott West - W231n1600 Corporate Court\, Pewaukee
UID:e.596.216
SEQUENCE:3
DTSTAMP:20260423T100436Z
URL:http://business.fallschamber.com/events/details/safe-babies-healthy-families-sweetheart-luncheon-fashion-show-02-15-2013-216
END:VEVENT

END:VCALENDAR
