BEGIN:VCALENDAR
VERSION:2.0
PRODID:-//ChamberMaster//Event Calendar 2.0//EN
METHOD:PUBLISH
X-PUBLISHED-TTL:P3D
REFRESH-INTERVAL:P3D
CALSCALE:GREGORIAN
BEGIN:VEVENT
DTSTART:20130509T223000Z
DTEND:20130510T020000Z
X-MICROSOFT-CDO-ALLDAYEVENT:FALSE
SUMMARY:Safe Babies Healthy Families Annual Gala
DESCRIPTION:Annual Fundraising event benefiting Safe Babies Healthy Families will feature a silent and live auction\, gourmet dinner\, wine pull\, and presentation. All proceeds support the prevention of child abuse and neglect.
X-ALT-DESC;FMTTYPE=text/html:Annual Fundraising event benefiting Safe Babies Healthy Families will feature a silent and live auction\, gourmet dinner\, wine pull\, and presentation. All proceeds support the prevention of child abuse and neglect.
LOCATION:The black tie-optional event will be held at the Marriott Hotel\, W231-N1600 Corporate Court\, Pewaukee.
UID:e.596.222
SEQUENCE:3
DTSTAMP:20260423T053958Z
URL:http://business.fallschamber.com/events/details/safe-babies-healthy-families-annual-gala-05-09-2013-222
END:VEVENT

END:VCALENDAR
