BEGIN:VCALENDAR
VERSION:2.0
PRODID:-//ChamberMaster//Event Calendar 2.0//EN
METHOD:PUBLISH
X-PUBLISHED-TTL:P3D
REFRESH-INTERVAL:P3D
CALSCALE:GREGORIAN
BEGIN:VEVENT
DTSTART:20130810T140000Z
DTEND:20130810T170000Z
X-MICROSOFT-CDO-ALLDAYEVENT:FALSE
SUMMARY:Safe Babies Healthy Families 5K Trot for Tots
DESCRIPTION:Family Friendly Run/Walk design for all ages and groups.  Great team building opportunity for your business\, small group - youth\, civic\, mom's\, boy scouts\, girl scouts\, employee outreach etc.\n\n\n\nRunners and walkers will enjoy two laps around Frame Park on the riverwalk.\n\n\n\nVisit www.safebabieshealthyfamilies.org for more information.  More details this Summer.
X-ALT-DESC;FMTTYPE=text/html:Family Friendly Run/Walk design for all ages and groups.&nbsp\; Great team building opportunity for your business\, small group - youth\, civic\, mom&#39\;s\, boy scouts\, girl scouts\, employee outreach etc.<br />\n<br />\nRunners and walkers will enjoy two laps around Frame Park on the riverwalk.<br />\n<br />\nVisit <a href="http://www.safebabieshealthyfamilies.org">www.safebabieshealthyfamilies.org</a> for more information.&nbsp\; More details this Summer.&nbsp\; 
LOCATION:Frame Park\, Waukesha\, WI
UID:e.596.224
SEQUENCE:3
DTSTAMP:20260423T011029Z
URL:http://business.fallschamber.com/events/details/safe-babies-healthy-families-5k-trot-for-tots-08-10-2013-224
END:VEVENT

END:VCALENDAR
