BEGIN:VCALENDAR
VERSION:2.0
PRODID:-//ChamberMaster//Event Calendar 2.0//EN
METHOD:PUBLISH
X-PUBLISHED-TTL:P3D
REFRESH-INTERVAL:P3D
CALSCALE:GREGORIAN
BEGIN:VEVENT
DTSTART:20131211T233000Z
DTEND:20131212T013000Z
X-MICROSOFT-CDO-ALLDAYEVENT:FALSE
SUMMARY:Reindeer Games
DESCRIPTION:Celebrate the Season \n\nPictures with a Live Reindeer  - door prizes\; bake sale\; hot cocoa & apple cider\n\n\n\nVISIT SANTA\n\n\n\nGrand prize drawing for New Year's Eve package at the Radisson for anyone donating 5 non-perishable food items or $5 to the Menomonee Falls Food Pantry
X-ALT-DESC;FMTTYPE=text/html:<span style="font-size: 16px\;"><strong>Celebrate the Season </strong></span><br />\nPictures with a Live Reindeer&nbsp\; - door prizes\; bake sale\; hot cocoa &amp\; apple cider<br />\n<br />\nVISIT SANTA<br />\n<br />\nGrand prize drawing for New Year&#39\;s Eve package at the Radisson for anyone donating 5 non-perishable food items or $5 to the Menomonee Falls Food Pantry
LOCATION:Radisson Hotel Menomonee Falls
UID:e.596.289
SEQUENCE:3
DTSTAMP:20260422T193151Z
URL:http://business.fallschamber.com/events/details/reindeer-games-12-11-2013-289
END:VEVENT

END:VCALENDAR
