BEGIN:VCALENDAR
VERSION:2.0
PRODID:-//ChamberMaster//Event Calendar 2.0//EN
METHOD:PUBLISH
X-PUBLISHED-TTL:P3D
REFRESH-INTERVAL:P3D
CALSCALE:GREGORIAN
BEGIN:VEVENT
DTSTART:20130513T180000Z
DTEND:20130513T230000Z
X-MICROSOFT-CDO-ALLDAYEVENT:FALSE
SUMMARY:Radisson Hotel Menomonee Falls Blood Drive
DESCRIPTION:Blood Drive - Radisson Hotel Menomonee Falls
X-ALT-DESC;FMTTYPE=text/html:Blood Drive - Radisson Hotel Menomonee Falls
LOCATION:Radisson Hotel Menomonee Falls N88W14750 Main Street
UID:e.596.221
SEQUENCE:3
DTSTAMP:20260423T053825Z
URL:http://business.fallschamber.com/events/details/radisson-hotel-menomonee-falls-blood-drive-05-13-2013-221
END:VEVENT

END:VCALENDAR
