BEGIN:VCALENDAR
VERSION:2.0
PRODID:-//ChamberMaster//Event Calendar 2.0//EN
METHOD:PUBLISH
X-PUBLISHED-TTL:P3D
REFRESH-INTERVAL:P3D
CALSCALE:GREGORIAN
BEGIN:VEVENT
DTSTART:20130913T190000Z
DTEND:20130913T220000Z
X-MICROSOFT-CDO-ALLDAYEVENT:FALSE
SUMMARY:Polka Dance and Fish Fry
DESCRIPTION:Come enjoy some polka music and a great Wisconsin Fish Fry...FOR FREE!
X-ALT-DESC;FMTTYPE=text/html:Come enjoy some polka music and a great Wisconsin Fish Fry...FOR FREE!
LOCATION:Village at the Falls!
UID:e.596.278
SEQUENCE:3
DTSTAMP:20260422T234450Z
URL:http://business.fallschamber.com/events/details/polka-dance-and-fish-fry-09-13-2013-278
END:VEVENT

END:VCALENDAR
