BEGIN:VCALENDAR
VERSION:2.0
PRODID:-//ChamberMaster//Event Calendar 2.0//EN
METHOD:PUBLISH
X-PUBLISHED-TTL:P3D
REFRESH-INTERVAL:P3D
CALSCALE:GREGORIAN
BEGIN:VEVENT
DTSTART;VALUE=DATE:20131204
DTEND;VALUE=DATE:20131205
TRANSP:TRANSPARENT
X-MICROSOFT-CDO-ALLDAYEVENT:TRUE
SUMMARY:Past Presidents' Breakfast
DESCRIPTION:President Mike Moore Has invited the Past Presidents of the Chamber and the Young Professionals committee to join him for breakfast at North Hills Country Club to discuss possible mentorship opportunities between the two groups.
X-ALT-DESC;FMTTYPE=text/html:President Mike Moore Has invited the Past Presidents of the Chamber and the Young Professionals committee to join him for breakfast at North Hills Country Club to discuss possible mentorship opportunities between the two groups.
LOCATION:North Hills Country Club
UID:e.596.290
SEQUENCE:3
DTSTAMP:20260422T205720Z
URL:http://business.fallschamber.com/events/details/past-presidents-breakfast-12-04-2013-290
END:VEVENT

END:VCALENDAR
