BEGIN:VCALENDAR
VERSION:2.0
PRODID:-//ChamberMaster//Event Calendar 2.0//EN
METHOD:PUBLISH
X-PUBLISHED-TTL:P3D
REFRESH-INTERVAL:P3D
CALSCALE:GREGORIAN
BEGIN:VEVENT
DTSTART:20140612T220000Z
DTEND:20140613T003000Z
X-MICROSOFT-CDO-ALLDAYEVENT:FALSE
SUMMARY:Party In The Park A La Carte
DESCRIPTION:PARTY IN THE PARK A LA CARTE\n\n \n(formerly the Porch Party)\n\nTHIS IS THE LARGEST BA5 OF THE YEAR\n\n \nWE HAVE A COVERED PICNIC AREA AT ROTARY PARK\n\nRAIN OR SHINE!!\n \n\n FOOD AND BEVERAGE SAMPLING PROVIDED BY:\n\nBeer Capitol\; Community League\; Otto's Beverage Center\; rbg Bar & Grill\; YoCool Frozen Yogurt\; Cousins Subs.\; Pizzaria Unos\; Trysting Place\; Brisco County Wood Grill\; A.J.'s Live\; Grinderville\; Hilton Garden Inn\n\nMusic By: Scott Meissner\n\nRAFFLES & NETWORKING\n\nGOLD SPONSOR -  MALKIN'S FLOORING\;\n\nSILVER SPONSORS -  HILTON GARDEN INN\; MENOMONEE PLACE\; FIRST BANK FINANCIAL CENTRE\;\n\nBRONZE SPONSORS - PETE'S MAINSTREET HEADLINERS\; ANCHOR MOVING\; OIL VALET\n\nTHIS IS A MEMBER AND NON-MEMBER EVENT\n\nALL BUSINESSES ARE WELCOME
X-ALT-DESC;FMTTYPE=text/html:<div style="text-align: center\;"><strong><span style="color: rgb(255\, 0\, 0)\;"><span style="font-size: 20px\;">&nbsp\;PARTY IN THE PARK A LA CARTE</span></span></strong><br />\n&nbsp\;</div>\n<strong><span style="font-size: 12px\;"><font color="#ff0000">(formerly&nbsp\;the Porch Party)<br />\n<span style="font-size: 16px\;">THIS IS THE LARGEST BA5 OF&nbsp\;THE YEAR</span></font></span></strong><br />\n&nbsp\;\n<div style="text-align: center\;"><strong><span style="font-size: 12px\;"><font color="#ff0000"><span style="font-size: 16px\;">WE HAVE A COVERED PICNIC AREA AT ROTARY PARK<br />\nRAIN OR SHINE!!</span></font></span></strong></div>\n&nbsp\;\n\n<div style="text-align: center\;"><span style="color: rgb(0\, 0\, 255)\;">&nbsp\;</span><span style="font-size: 18px\;"><span style="font-family: comic sans ms\;"><span style="color: rgb(0\, 0\, 255)\;">FOOD AND BEVERAGE SAMPLING&nbsp\;PROVIDED BY:<br />\nBeer Capitol\; Community&nbsp\;League\; Otto&#39\;s Beverage Center\; rbg&nbsp\;Bar &amp\; Grill\; YoCool Frozen Yogurt\; Cousins Subs.\; Pizzaria Unos\; Trysting Place\; Brisco&nbsp\;County Wood Grill\; A.J.&#39\;s Live\; Grinderville\; Hilton Garden Inn<br />\nMusic By: Scott Meissner</span><br />\n<span style="color: rgb(0\, 255\, 0)\;">RAFFLES&nbsp\;&amp\; NETWORKING</span><br />\n<span style="color: rgb(255\, 0\, 0)\;">GOLD SPONSOR -&nbsp\;&nbsp\;MALKIN&#39\;S FLOORING\;<br />\nSILVER SPONSORS -&nbsp\;&nbsp\;HILTON GARDEN INN\; MENOMONEE PLACE\; FIRST BANK FINANCIAL CENTRE\;<br />\nBRONZE SPONSORS - PETE&#39\;S MAINSTREET HEADLINERS\; ANCHOR MOVING\; OIL VALET</span><br />\n<span style="color: rgb(0\, 255\, 0)\;">THIS IS A MEMBER AND NON-MEMBER EVENT<br />\nALL BUSINESSES ARE WELCOME</span></span></span></div>\n<br />\n&nbsp\;
LOCATION:We have outgrown the Chamber parking lot! Please join us this year at ROTARY PARK - Fond du Lac Entrance NOTE: THERE IS ADDITIONAL PARKING AT THE MACARTHUR STREET ENTRANCE Rotary Park West of Lilly Rd between Fond du Lac Ave & Menomonee Ave
UID:e.596.309
SEQUENCE:3
DTSTAMP:20260422T102408Z
URL:http://business.fallschamber.com/events/details/party-in-the-park-a-la-carte-06-12-2014-309
END:VEVENT

END:VCALENDAR
