BEGIN:VCALENDAR
VERSION:2.0
PRODID:-//ChamberMaster//Event Calendar 2.0//EN
METHOD:PUBLISH
X-PUBLISHED-TTL:P3D
REFRESH-INTERVAL:P3D
CALSCALE:GREGORIAN
BEGIN:VEVENT
DTSTART:20141002T123000Z
DTEND:20141002T133000Z
X-MICROSOFT-CDO-ALLDAYEVENT:FALSE
SUMMARY:New Member Welcome
DESCRIPTION:New Member Welcome
X-ALT-DESC;FMTTYPE=text/html:New Member Welcome
LOCATION:The Radisson Hotel of Menomonee Falls N88W14750 Main Street Menomone Falls\, WI 53051 Granite Room
UID:e.596.380
SEQUENCE:3
DTSTAMP:20260420T040258Z
URL:http://business.fallschamber.com/events/details/new-member-welcome-10-02-2014-380
END:VEVENT

END:VCALENDAR
