BEGIN:VCALENDAR
VERSION:2.0
PRODID:-//ChamberMaster//Event Calendar 2.0//EN
METHOD:PUBLISH
X-PUBLISHED-TTL:P3D
REFRESH-INTERVAL:P3D
CALSCALE:GREGORIAN
BEGIN:VEVENT
DTSTART:20150303T133000Z
DTEND:20150303T150000Z
X-MICROSOFT-CDO-ALLDAYEVENT:FALSE
SUMMARY:New Member Welcome
DESCRIPTION:New Member Welcome
X-ALT-DESC;FMTTYPE=text/html:New Member Welcome
LOCATION:Fire Station #3 W140N7501 Lilly Road Menomonee Falls\, WI 53051 (just south of Appleton Ave.)
UID:e.596.423
SEQUENCE:3
DTSTAMP:20260419T203121Z
URL:http://business.fallschamber.com/events/details/new-member-welcome-03-03-2015-423
END:VEVENT

END:VCALENDAR
