BEGIN:VCALENDAR
VERSION:2.0
PRODID:-//ChamberMaster//Event Calendar 2.0//EN
METHOD:PUBLISH
X-PUBLISHED-TTL:P3D
REFRESH-INTERVAL:P3D
CALSCALE:GREGORIAN
BEGIN:VEVENT
DTSTART:20140416T220000Z
DTEND:20140417T003000Z
X-MICROSOFT-CDO-ALLDAYEVENT:FALSE
SUMMARY:Menomonee Falls Young Professionals Un-Wined
DESCRIPTION:YOUNG PROFESSIONALS UN-WINED (An after-hours networking social)\n\nUN-WINED and unplug as you get to know more about your fellow Young Professionals at this quarterly after-hours networking social. \n\n\n\nFree to attend\, but please pre-register\n\nCash Bar
X-ALT-DESC;FMTTYPE=text/html:<strong><span style="color:#4F6228\;">YOUNG PROFESSIONALS UN-WINED (An after-hours networking social)</span></strong><br />\n<em>UN-WINED and unplug as you get to know more about your fellow Young Professionals at this quarterly after-hours networking social.&nbsp\;<br />\n<br />\nFree to attend\, but please pre-register<br />\nCash Bar</em>
LOCATION:RBG Restaurant at the Menomonee Falls Radisson Hotel N88 W14750 Main Street Menomonee Falls\, WI 53051
UID:e.596.330
SEQUENCE:3
DTSTAMP:20260422T132840Z
URL:http://business.fallschamber.com/events/details/menomonee-falls-young-professionals-un-wined-04-16-2014-330
END:VEVENT

END:VCALENDAR
