BEGIN:VCALENDAR
VERSION:2.0
PRODID:-//ChamberMaster//Event Calendar 2.0//EN
METHOD:PUBLISH
X-PUBLISHED-TTL:P3D
REFRESH-INTERVAL:P3D
CALSCALE:GREGORIAN
BEGIN:VEVENT
DTSTART:20130910T163000Z
DTEND:20130910T180000Z
X-MICROSOFT-CDO-ALLDAYEVENT:FALSE
SUMMARY:Menomonee Falls Young Professionals Luncheon
DESCRIPTION:Menomonee Falls Young Professionals Luncheon featuring Keynote Speaker Mark Fitzgerald\, Menomonee Falls Village Manager\n\n\n\nMenomonee Falls Young Professionals is a premiere network of professionals between the ages of 21 and 39 from the Greater Menomonee Falls area.\n\n\n\nThe goal of the program is to provide YP members with unparalleled opportunities to gain the experience needed to become more effective civic and business leaders in an environment where they can meet others with the same ambition.
X-ALT-DESC;FMTTYPE=text/html:<strong style="color: rgb(0\, 0\, 205)\; font-family: 'times new roman'\; font-size: 15px\; line-height: 20px\;">Menomonee Falls Young Professionals Luncheon featuring Keynote Speaker Mark Fitzgerald\, Menomonee Falls Village Manager</strong><br />\n<br />\n<span style="font-family:times new roman\;"><span style="color: rgb(0\, 0\, 205)\;"><span style="font-size: 15px\; line-height: 20px\;"><strong>Menomonee Falls Young Professionals</strong></span></span><span style="font-size:14px\;">&nbsp\;is a premiere network of professionals&nbsp\;<em><strong>between the ages of 21 and 39</strong></em>&nbsp\;from the Greater Menomonee Falls area.<br />\n<br />\nThe goal of the program is to provide&nbsp\;YP&nbsp\;members with unparalleled opportunities to gain the experience needed to become more effective civic and business leaders in an environment where they can meet others with the same ambition.</span></span>
LOCATION:North Hills Country Club N73W13430 Appleton Ave. Menomonee Falls\, WI 53051
UID:e.596.272
SEQUENCE:3
DTSTAMP:20260422T234237Z
URL:http://business.fallschamber.com/events/details/menomonee-falls-young-professionals-luncheon-09-10-2013-272
END:VEVENT

END:VCALENDAR
