BEGIN:VCALENDAR
VERSION:2.0
PRODID:-//ChamberMaster//Event Calendar 2.0//EN
METHOD:PUBLISH
X-PUBLISHED-TTL:P3D
REFRESH-INTERVAL:P3D
CALSCALE:GREGORIAN
BEGIN:VEVENT
DTSTART:20130822T220000Z
DTEND:20130823T003000Z
X-MICROSOFT-CDO-ALLDAYEVENT:FALSE
SUMMARY:Menomonee Falls Young Professional Launch Party
DESCRIPTION:Are you a business professional between the ages of 21 and 39? If so\, this opportunity is for you!\n\n\n\nThe Menomonee Falls Chamber is pleased to announce the formation of Menomonee Falls Young Professionals. This is a premiere network of professionals between the ages of 21 and 39 from the Greater Menomonee Falls area. The goal of the program is to provide YP members with unparalleled opportunities to gain the experience needed to become more effective civic and business leaders in an environment where they can meet others with the same ambition.\n\n\n\n$15 includes\, Networking\, Food\, Beverages & FUN!
X-ALT-DESC;FMTTYPE=text/html:<span style="color:#0000cd\;"><span style="font-family:comic sans ms\;"><span style="font-size: 15px\; line-height: 20px\;"><span style="font-size:16px\;">Are you a business professional between the ages of 21 and 39? If so\, this opportunity is for you!</span></span></span></span><br />\n<br />\n<span style="font-family:comic sans ms\;"><span style="color: rgb(63\, 63\, 63)\; font-size: 15px\; line-height: 20px\;">The Menomonee Falls Chamber is pleased to announce the formation of</span><span style="color:#0000cd\;"><span style="font-size: 15px\; line-height: 20px\;"> </span></span></span><span style="color:#0000cd\;"><span style="font-family: 'Gill Sans'\, 'Gill Sans MT'\, Calibri\, sans-serif\; font-size: 15px\; line-height: 20px\;"><strong>Menomonee Falls Young Professionals</strong></span></span><span style="color: rgb(63\, 63\, 63)\; font-family: 'Gill Sans'\, 'Gill Sans MT'\, Calibri\, sans-serif\; font-size: 15px\; line-height: 20px\;">. <span style="font-family:comic sans ms\;">This is a premiere network of professionals <em><strong>between the ages of 21 and 39</strong></em> from the Greater Menomonee Falls area. The goal of the program is to provide YP members with unparalleled opportunities to gain the experience needed to become more effective civic and business leaders in an environment where they can meet others with the same ambition.</span><br />\n<br />\n<span style="font-size:16px\;"><span style="font-family:comic sans ms\;"><strong><span style="background-color:#ffff00\;">$15 includes\, Networking\, Food\, Beverages &amp\; FUN!&nbsp\;</span></strong></span></span></span>
LOCATION:Trysting Place Pub N71W12980 Appleton Ave. Menomonee Falls\, WI 53051
UID:e.596.260
SEQUENCE:3
DTSTAMP:20260423T010759Z
URL:http://business.fallschamber.com/events/details/menomonee-falls-young-professional-launch-party-08-22-2013-260
END:VEVENT

END:VCALENDAR
