BEGIN:VCALENDAR
VERSION:2.0
PRODID:-//ChamberMaster//Event Calendar 2.0//EN
METHOD:PUBLISH
X-PUBLISHED-TTL:P3D
REFRESH-INTERVAL:P3D
CALSCALE:GREGORIAN
BEGIN:VEVENT
DTSTART:20141017T133000Z
DTEND:20141017T183000Z
X-MICROSOFT-CDO-ALLDAYEVENT:FALSE
SUMMARY:Menomonee Falls Senior Enrichment Fair
DESCRIPTION:6th Annual Menomonee Falls Senior Enrichment Fair\n\nEducational Seminars\n\nDemonstration\n\nVendor Exhibits\n\nDoor Prizes\n\nMusical Entertainment\n\nLunch\, Refreshments & More
X-ALT-DESC;FMTTYPE=text/html:6th Annual Menomonee Falls Senior Enrichment Fair<br />\nEducational Seminars<br />\nDemonstration<br />\nVendor Exhibits<br />\nDoor Prizes<br />\nMusical Entertainment<br />\nLunch\, Refreshments &amp\; More
LOCATION:Community Education & Recreation Center W152N8645 Margaret Road Menomonee Falls\, WI
UID:e.596.376
SEQUENCE:3
DTSTAMP:20260420T054006Z
URL:http://business.fallschamber.com/events/details/menomonee-falls-senior-enrichment-fair-10-17-2014-376
END:VEVENT

END:VCALENDAR
