BEGIN:VCALENDAR
VERSION:2.0
PRODID:-//ChamberMaster//Event Calendar 2.0//EN
METHOD:PUBLISH
X-PUBLISHED-TTL:P3D
REFRESH-INTERVAL:P3D
CALSCALE:GREGORIAN
BEGIN:VEVENT
DTSTART:20150713T180000Z
DTEND:20150713T220000Z
X-MICROSOFT-CDO-ALLDAYEVENT:FALSE
SUMMARY:Men. Falls WAT Grant Subsidized Training Through WCTC 7/13/15
DESCRIPTION:Upcoming Menomonee Falls-Based Training Grant Course\n\nCOMMUNICATION\n\n Assertive and Confident Communication Participants will learn the difference between passive\, assertive\, and aggressive communication styles. The course will explore barriers to assertive communication and provide tips for modifying your communication style and the impact of non-verbal communication on your message. Participants will have the opportunity to practice techniques for communicating assertively in the workplace.\n\n\n\nMonday\, July 13\, 2015 1:00-5:00 pm\n\n$15 per participant\n\nTraining Location Location Community Memorial Hospital East Conference Room\n\nW180N8085 Town Hall Rd.\, Menomonee Falls\, WI 53051\n\n\n\nTo register for a course please visit the WCTC website at www.wctc.edu/business-and-community/CBPS/meno-falls/viewall.php \n\nWe encourage you to check the website often to view new courses that will be offered through August 2015.
X-ALT-DESC;FMTTYPE=text/html:<strong><span style="font-size: 16pt\;"><span style="color: rgb(46\, 116\, 181)\;"><span style="font-family: calibri\;">Upcoming Menomonee Falls-Based Training Grant Course</span></span></span></strong><br />\n<strong><span style="font-size: 20pt\;"><span style="font-family: calibri\;">COMMUNICATION</span></span></strong><br />\n<span style="color: rgb(255\, 0\, 0)\;"><strong><font face="Calibri" size="2">&nbsp\;</font><span style="font-size: 10pt\;"><span style="font-family: calibri\;">Assertive and Confident Communication</span></span></strong> </span><span style="font-size: 10pt\;"><span style="font-family: calibri\;">Participants will learn the difference between passive\, assertive\, and aggressive communication styles. The course will explore barriers to assertive communication and provide tips for modifying your communication style and the impact of non-verbal communication on your message. Participants will have the opportunity to practice techniques for communicating assertively in the workplace.</span></span><br />\n<br />\n<span style="color: rgb(255\, 0\, 0)\;"><strong><span style="font-size: 10pt\;"><span style="font-family: times new roman\;">Monday\, July 13\, 2015 1:00-5:00 pm</span></span></strong></span><br />\n<span style="font-size: 10pt\;"><span style="font-family: calibri\;">$15 per participant</span></span><br />\n<span style="font-family: calibri\;"><strong><span style="font-size: 10pt\;">Training Location</span></strong> <strong><span style="font-size: 10pt\;"><span style="color: black\;">Location </span></span></strong></span><span style="font-size: 9pt\;"><span style="color: black\;"><span style="font-family: calibri\;">Community Memorial Hospital East Conference Room</span></span></span><br />\n<span style="font-family: times new roman\;"><span style="font-size: 10pt\;">W180N8085 Town Hall Rd.</span><span style="font-size: 10pt\;">\, Menomonee Falls\, WI 53051</span></span><br />\n<br />\n<span style="font-size: 14px\;"><strong><span style="color: rgb(255\, 0\, 0)\;"><span style="line-height: 107%\; font-family: Calibri\; mso-fareast-font-family: &quot\;Times New Roman&quot\;\; mso-bidi-font-family: &quot\;Times New Roman&quot\;\; mso-ansi-language: EN-US\; mso-fareast-language: EN-US\; mso-bidi-language: AR-SA\;">To register for a course please visit&nbsp\;the WCTC&nbsp\;website at</span></span><span style="color: black\; line-height: 107%\; font-family: Calibri\; mso-fareast-font-family: &quot\;Times New Roman&quot\;\; mso-bidi-font-family: &quot\;Times New Roman&quot\;\; mso-ansi-language: EN-US\; mso-fareast-language: EN-US\; mso-bidi-language: AR-SA\;"> </span><span style="line-height: 107%\; font-family: Calibri\; mso-fareast-font-family: &quot\;Times New Roman&quot\;\; mso-bidi-font-family: &quot\;Times New Roman&quot\;\; mso-ansi-language: EN-US\; mso-fareast-language: EN-US\; mso-bidi-language: AR-SA\;"><a href="http://www.wctc.edu/business-and-community/CBPS/meno-falls/viewall.php"><span style="line-height: 107%\;"><font color="#0563c1" face="Times New Roman">www.wctc.edu/business-and-community/CBPS/meno-falls/viewall.php</font></span></a></span><span style="line-height: 107%\; font-family: Calibri\; mso-fareast-font-family: &quot\;Times New Roman&quot\;\; mso-bidi-font-family: &quot\;Times New Roman&quot\;\; mso-ansi-language: EN-US\; mso-fareast-language: EN-US\; mso-bidi-language: AR-SA\;"><font color="#000000"> </font><br />\n<span style="color: rgb(255\, 0\, 0)\;">We encourage you to check the website often to view new courses that will be offered through August 2015. </span></span></strong></span><br />\n<span style="color: rgb(255\, 0\, 0)\;">&nbsp\;</span>
LOCATION:Training Location: Community Memorial Hospital East Conference Room W180N8085 Town Hall Rd.\, Menomonee Falls\, WI 53051
UID:e.596.456
SEQUENCE:3
DTSTAMP:20260419T150947Z
URL:http://business.fallschamber.com/events/details/men-falls-wat-grant-subsidized-training-through-wctc-7-13-15-07-13-2015-456
END:VEVENT

END:VCALENDAR
