BEGIN:VCALENDAR
VERSION:2.0
PRODID:-//ChamberMaster//Event Calendar 2.0//EN
METHOD:PUBLISH
X-PUBLISHED-TTL:P3D
REFRESH-INTERVAL:P3D
CALSCALE:GREGORIAN
BEGIN:VEVENT
DTSTART:20150623T170000Z
DTEND:20150623T170000Z
X-MICROSOFT-CDO-ALLDAYEVENT:FALSE
SUMMARY:Men. Falls WAT Grant Subsidized Training Through WCTC 6/23/15
DESCRIPTION:Upcoming Menomonee Falls-Based Training Grant Course\n\nTEAM DYNAMICS\n\nPeer to Boss This course is designed to Help newly promoted supervisors navigate their changing roles and have immediate impact! Climb in the proverbial camper for an enlightening road trip with five friends who share experience and insights about making successful transitions from peer to boss. Key strategies\, hands-on workshop activities and practical suggestions make this program an excellent choice for organizations that promote from within or train new supervisors regularly. Target Audience: New managers and supervisors.\n\n\n\nParticipants will learn how to address these common situations\n\n \n\n	Overcoming the fear of lost friendships and lost rapport \n	Disciplining a former peer \n	Managing coworkers who are older \n	Enforcing a policy the individual may have personally broken prior to becoming a manager \n	Avoiding the appearance of favoritism \n	Keeping confidential information confidential \n	Admitting mistakes in a way that builds trust and credibility with former peers (and all direct reports)  \n\n\n \n\nTuesday\, June 23\, 2015   8:00 to 4:30 pm\n\n$25 per participant\n\nTraining Location Community Memorial Hospital Meeting Room C\n\nW180N8085 Town Hall Rd.\, Menomonee Falls\, WI 53051\n\n \n\n\n\nTo register for a course please visit the WCTC website at www.wctc.edu/business-and-community/CBPS/meno-falls/viewall.php \n\nWe encourage you to check the website often to view new courses that will be offered through August 2015.
X-ALT-DESC;FMTTYPE=text/html:<strong><span style="font-size: 16pt\;"><span style="color: rgb(46\, 116\, 181)\;"><span style="font-family: calibri\;">Upcoming Menomonee Falls-Based Training Grant Course</span></span></span></strong><br />\n<strong><span style="font-size: 20pt\;"><span style="font-family: calibri\;">TEAM DYNAMICS</span></span></strong><br />\n<strong><span style="color: rgb(255\, 0\, 0)\;"><span style="font-size: 10pt\;"><span style="font-family: calibri\;">Peer to Boss</span><a name="_GoBack"></a> </span></span></strong><span style="font-family: calibri\;"><span style="font-size: 10pt\;">This course is designed to </span></span><span style="font-size: 10pt\;">Help newly promoted supervisors navigate their changing roles and have immediate impact! Climb in the proverbial camper for an enlightening road trip with five friends who share experience and insights about making successful transitions from peer to boss. Key strategies\, hands-on workshop activities and practical suggestions make this program an excellent choice for organizations that promote from within or train new supervisors regularly. Target Audience</span>: New managers and supervisors.<br />\n<br />\n<span style="color: rgb(255\, 0\, 0)\;"><span style="font-family: calibri\;"><strong><span style="font-size: 10pt\;">Participants will learn how to address these common situations</span></strong></span></span><br />\n&nbsp\;\n<ol>\n	<li style="line-height: normal\;"><span style="font-size: 10pt\;"><span style="font-family: calibri\;">Overcoming the fear of lost friendships and lost rapport </span></span></li>\n	<li style="line-height: normal\;"><span style="font-size: 10pt\;"><span style="font-family: calibri\;">Disciplining a former peer </span></span></li>\n	<li style="line-height: normal\;"><span style="font-size: 10pt\;"><span style="font-family: calibri\;">Managing coworkers who are older </span></span></li>\n	<li style="line-height: normal\;"><span style="font-size: 10pt\;"><span style="font-family: calibri\;">Enforcing a policy the individual may have personally broken prior to becoming a manager </span></span></li>\n	<li style="line-height: normal\;"><span style="font-size: 10pt\;"><span style="font-family: calibri\;">Avoiding the appearance of favoritism </span></span></li>\n	<li style="line-height: normal\;"><span style="font-size: 10pt\;"><span style="font-family: calibri\;">Keeping confidential information confidential </span></span></li>\n	<li style="line-height: normal\; font-style: normal\; font-weight: normal\;"><span style="font-size: 10pt\;">Admitting mistakes in a way that builds trust and credibility with former peers (and all direct reports)&nbsp\; </span></li>\n</ol>\n\n<p style="line-height: normal\;">&nbsp\;<br />\n<strong><span style="color: rgb(255\, 0\, 0)\;"><span style="font-size: 10pt\;"><span style="font-family: calibri\;">Tuesday\, June 23\, 2015&nbsp\;&nbsp\; 8:00 to 4:30 pm</span></span></span></strong><br />\n<span style="font-size: 10pt\;"><span style="font-family: calibri\;">$25 per participant</span></span><br />\n<span style="font-family: calibri\;"><strong><span style="font-size: 10pt\;">Training Location</span></strong></span><span style="font-size: 10pt\;"> Community Memorial Hospital Meeting Room C</span><br />\n<span style="font-size: 10pt\;"><span style="font-family: times new roman\;">W180N8085 Town Hall Rd.\, Menomonee Falls\, WI 53051</span></span><br />\n&nbsp\;<br />\n<br />\n<span style="font-size: 14px\;"><strong><span style="color: rgb(255\, 0\, 0)\;"><span style="line-height: 107%\; font-family: Calibri\; mso-fareast-font-family: &quot\;Times New Roman&quot\;\; mso-bidi-font-family: &quot\;Times New Roman&quot\;\; mso-ansi-language: EN-US\; mso-fareast-language: EN-US\; mso-bidi-language: AR-SA\;">To register for a course please visit&nbsp\;the WCTC&nbsp\;website at</span></span><span style="color: black\; line-height: 107%\; font-family: Calibri\; mso-fareast-font-family: &quot\;Times New Roman&quot\;\; mso-bidi-font-family: &quot\;Times New Roman&quot\;\; mso-ansi-language: EN-US\; mso-fareast-language: EN-US\; mso-bidi-language: AR-SA\;"> </span><span style="line-height: 107%\; font-family: Calibri\; mso-fareast-font-family: &quot\;Times New Roman&quot\;\; mso-bidi-font-family: &quot\;Times New Roman&quot\;\; mso-ansi-language: EN-US\; mso-fareast-language: EN-US\; mso-bidi-language: AR-SA\;"><a href="http://www.wctc.edu/business-and-community/CBPS/meno-falls/viewall.php"><span style="line-height: 107%\;"><font color="#0563c1" face="Times New Roman">www.wctc.edu/business-and-community/CBPS/meno-falls/viewall.php</font></span></a></span><span style="line-height: 107%\; font-family: Calibri\; mso-fareast-font-family: &quot\;Times New Roman&quot\;\; mso-bidi-font-family: &quot\;Times New Roman&quot\;\; mso-ansi-language: EN-US\; mso-fareast-language: EN-US\; mso-bidi-language: AR-SA\;"><font color="#000000"> </font><br />\n<span style="color: rgb(255\, 0\, 0)\;">We encourage you to check the website often to view new courses that will be offered through August 2015.&nbsp\;</span></span></strong></span><br />\n&nbsp\;</p>\n
LOCATION:Training Location Community Memorial Hospital Meeting Room C W180N8085 Town Hall Rd.\, Menomonee Falls\, WI 53051
UID:e.596.466
SEQUENCE:3
DTSTAMP:20260419T163954Z
URL:http://business.fallschamber.com/events/details/men-falls-wat-grant-subsidized-training-through-wctc-6-23-15-06-23-2015-466
END:VEVENT

END:VCALENDAR
