BEGIN:VCALENDAR
VERSION:2.0
PRODID:-//ChamberMaster//Event Calendar 2.0//EN
METHOD:PUBLISH
X-PUBLISHED-TTL:P3D
REFRESH-INTERVAL:P3D
CALSCALE:GREGORIAN
BEGIN:VEVENT
DTSTART:20150622T130000Z
DTEND:20150622T170000Z
X-MICROSOFT-CDO-ALLDAYEVENT:FALSE
SUMMARY:Men. Falls WAT Grant Subsidized Training Through WCTC 6/22/15
DESCRIPTION:Upcoming Menomonee Falls-Based Training Grant Course\n\nTEAM DYNAMICS\n\nDelegation: Assigning work to others is an integral part of getting things done efficiently\, however many people feel uncomfortable with delegating. However\, when you don't delegate you risk ending up with too much work\, not enough time\, and lots of undue stress. The belief that you can do it better and faster with fewer mistakes leads to a vicious cycle of too little time and too much to do. Learn to break this cycle and assign the right tasks to the right people.\n\n\n\nMonday\, June 22\, 2015      8:00-12:00 pm\n\n$15 per participant\n\nTraining Location Community Memorial Hospital- Meeting Room A/B\n\nW180N8085 Town Hall Rd.\, Menomonee Falls\, WI 53051\n\n\n\nTo register for a course please visit the WCTC website at www.wctc.edu/business-and-community/CBPS/meno-falls/viewall.php \n\nWe encourage you to check the website often to view new courses that will be offered through August 2015.
X-ALT-DESC;FMTTYPE=text/html:<strong><span style="font-size: 16pt\;"><span style="color: rgb(46\, 116\, 181)\;"><span style="font-family: calibri\;">Upcoming Menomonee Falls-Based Training Grant Course</span></span></span></strong><br />\n<strong><span style="font-size: 20pt\;"><span style="font-family: calibri\;">TEAM DYNAMICS</span></span></strong><br />\n<span style="font-family: calibri\;"><strong><span style="color: rgb(255\, 0\, 0)\;"><span style="font-size: 10pt\;">Delegation:</span></span></strong><span style="font-size: 10pt\;"><span style="color: rgb(255\, 0\, 0)\;"> </span>Assigning work to others is an integral part of getting things done efficiently\, however many people feel uncomfortable with delegating. However\, when you don&#39\;t delegate you risk ending up with too much work\, not enough time\, and lots of undue stress. The belief that you can do it better and faster with fewer mistakes leads to a vicious cycle of too little time and too much to do. Learn to break this cycle and assign the right tasks to the right people.</span></span><br />\n<br />\n<span style="color: rgb(255\, 0\, 0)\;"><strong><span style="font-size: 10pt\;"><span style="font-family: calibri\;">Monday\, June 22\, 2015&nbsp\;&nbsp\;&nbsp\;&nbsp\;&nbsp\; 8:00-12:00 pm</span></span></strong></span><br />\n<span style="font-size: 10pt\;"><span style="font-family: calibri\;">$15 per participant</span></span><br />\n<span style="font-family: calibri\;"><strong><span style="font-size: 10pt\;">Training Location</span></strong><span style="font-size: 10pt\;"> Community Memorial Hospital- Meeting Room A/B</span></span><br />\n<span style="font-size: 10pt\;"><span style="font-family: times new roman\;">W180N8085 Town Hall Rd.\, Menomonee Falls\, WI 53051</span></span><br />\n<br />\n<span style="font-size: 14px\;"><strong><span style="color: rgb(255\, 0\, 0)\;"><span style="line-height: 107%\; font-family: Calibri\; mso-fareast-font-family: &quot\;Times New Roman&quot\;\; mso-bidi-font-family: &quot\;Times New Roman&quot\;\; mso-ansi-language: EN-US\; mso-fareast-language: EN-US\; mso-bidi-language: AR-SA\;">To register for a course please visit&nbsp\;the WCTC&nbsp\;website at</span></span><span style="color: black\; line-height: 107%\; font-family: Calibri\; mso-fareast-font-family: &quot\;Times New Roman&quot\;\; mso-bidi-font-family: &quot\;Times New Roman&quot\;\; mso-ansi-language: EN-US\; mso-fareast-language: EN-US\; mso-bidi-language: AR-SA\;"> </span><span style="line-height: 107%\; font-family: Calibri\; mso-fareast-font-family: &quot\;Times New Roman&quot\;\; mso-bidi-font-family: &quot\;Times New Roman&quot\;\; mso-ansi-language: EN-US\; mso-fareast-language: EN-US\; mso-bidi-language: AR-SA\;"><a href="http://www.wctc.edu/business-and-community/CBPS/meno-falls/viewall.php"><span style="line-height: 107%\;"><font color="#0563c1" face="Times New Roman">www.wctc.edu/business-and-community/CBPS/meno-falls/viewall.php</font></span></a></span><span style="line-height: 107%\; font-family: Calibri\; mso-fareast-font-family: &quot\;Times New Roman&quot\;\; mso-bidi-font-family: &quot\;Times New Roman&quot\;\; mso-ansi-language: EN-US\; mso-fareast-language: EN-US\; mso-bidi-language: AR-SA\;"><font color="#000000"> </font><br />\n<span style="color: rgb(255\, 0\, 0)\;">We encourage you to check the website often to view new courses that will be offered through August 2015. </span></span></strong></span><br />\n<span style="color: rgb(255\, 0\, 0)\;">&nbsp\;</span>
LOCATION:Training Location: Community Memorial Hospital- Meeting Room A/B W180N8085 Town Hall Rd.\, Menomonee Falls\, WI 53051
UID:e.596.462
SEQUENCE:3
DTSTAMP:20260419T164729Z
URL:http://business.fallschamber.com/events/details/men-falls-wat-grant-subsidized-training-through-wctc-6-22-15-06-22-2015-462
END:VEVENT

END:VCALENDAR
