BEGIN:VCALENDAR
VERSION:2.0
PRODID:-//ChamberMaster//Event Calendar 2.0//EN
METHOD:PUBLISH
X-PUBLISHED-TTL:P3D
REFRESH-INTERVAL:P3D
CALSCALE:GREGORIAN
BEGIN:VEVENT
DTSTART:20131018T163000Z
DTEND:20131018T180000Z
X-MICROSOFT-CDO-ALLDAYEVENT:FALSE
SUMMARY:LUNCH & LEARN - Increasing Profits From Your Company Financial Statements
DESCRIPTION:Your Financial reports are the 'Score-Card of your business.  \n\n\n\nDuring this presentation you'll learn how to read - and understand  your company financials.  Including\, Income Statement (Profit/Loss) and Balance Sheet. \n\n\n\nWe'll also show you how these numbers are looked at by your banker\, investors and anyone who may be interested in looking at your business.
X-ALT-DESC;FMTTYPE=text/html:<span style="font-size:20px\;"><span style="font-family:times new roman\;">Your Financial reports are the &lsquo\;Score-Card of your business.&nbsp\;&nbsp\;<br />\n<br />\nDuring this presentation you&#39\;ll learn how to read - <span style="text-decoration:underline\;text-underline:single\;language:en-US\;">and understand</span>&nbsp\; your company financials.&nbsp\; Including\, Income Statement (Profit/Loss) and Balance Sheet.&nbsp\;<br />\n<br />\nWe&#39\;ll also show you how these numbers are looked at by your banker\, investors and anyone who may be interested in looking at your business.</span></span><br />\n&nbsp\;<br />\n
LOCATION:COUNTRY INN & SUITES HOTEL- GERMANTOWN W188 N11020 Maple Rd Germantown\, WI 53022 (Located on Hwy 167E -Mequon Road. Take exit #54 off of Hwy 41/45)
UID:e.596.259
SEQUENCE:3
DTSTAMP:20260422T221833Z
URL:http://business.fallschamber.com/events/details/lunch-learn-increasing-profits-from-your-company-financial-statements-10-18-2013-259
END:VEVENT

END:VCALENDAR
