BEGIN:VCALENDAR
VERSION:2.0
PRODID:-//ChamberMaster//Event Calendar 2.0//EN
METHOD:PUBLISH
X-PUBLISHED-TTL:P3D
REFRESH-INTERVAL:P3D
CALSCALE:GREGORIAN
BEGIN:VEVENT
DTSTART:20131206T170000Z
DTEND:20131206T190000Z
X-MICROSOFT-CDO-ALLDAYEVENT:FALSE
SUMMARY:LUNCH & LEARN - 2014 Strategic Planning
DESCRIPTION:At this interactive workshop you'll learn effective tools to identify the...\n\n\n	\n		Questions you'll need to answer to determine asuccessful plan of action for 2014.\n	\n		Market trends in your industry that indicate thepotential for growth.\n	\n		Key metrics you should be tracking to determinegrowth potential.\n	\n		Business financial numbers that will be animportant part of your planning process.\n\n\n	Developing habits through planning and performing them consistently\n\n	 \n\n	\n		To Register Go to - .http://2014Plan.eventbrite.com/
X-ALT-DESC;FMTTYPE=text/html:<div>\n	<div>\n		<span style="font-size:16px\;"><span style="font-family:times new roman\;"><strong>At this interactive workshop you&rsquo\;ll learn effective tools to identify the...</strong></span></span></div>\n</div>\n<ul>\n	<li>\n		<span style="font-size:16px\;"><span style="font-family:times new roman\;">Questions you&rsquo\;ll need to answer to determine asuccessful plan of action for 2014.</span></span></li>\n	<li>\n		<span style="font-size:16px\;"><span style="font-family:times new roman\;">Market trends in your industry that indicate thepotential for growth.</span></span></li>\n	<li>\n		<span style="font-size:16px\;"><span style="font-family:times new roman\;">Key metrics you should be tracking to determinegrowth potential.</span></span></li>\n	<li>\n		<span style="font-size:16px\;"><span style="font-family:times new roman\;">Business financial numbers that will be animportant part of your planning process.</span></span></li>\n</ul>\n<div>\n	<em><span style="color:#b22222\;"><span style="font-size:18px\;">Developing habits through planning and performing them consistently</span></span></em><br />\n	&nbsp\;</div>\n<ul>\n	<li>\n		<span style="font-size:16px\;"><span style="color:#0000cd\;">To Register Go to - .http://2014Plan.eventbrite.com/</span></span></li>\n</ul>\n
LOCATION:11:00a ? 1:00p Friday December 6\, 2013 Klemmer?s Banquet Center 10401 West Oklahoma Ave\, Milwaukee\, WI 53227
UID:e.596.287
SEQUENCE:3
DTSTAMP:20260422T192824Z
URL:http://business.fallschamber.com/events/details/lunch-learn-2014-strategic-planning-12-06-2013-287
END:VEVENT

END:VCALENDAR
