BEGIN:VCALENDAR
VERSION:2.0
PRODID:-//ChamberMaster//Event Calendar 2.0//EN
METHOD:PUBLISH
X-PUBLISHED-TTL:P3D
REFRESH-INTERVAL:P3D
CALSCALE:GREGORIAN
BEGIN:VEVENT
DTSTART:20130206T134500Z
DTEND:20130206T223000Z
X-MICROSOFT-CDO-ALLDAYEVENT:FALSE
SUMMARY:LMF Volunteer Day
DESCRIPTION:Leadership Menomonee Falls\n\nVolunteer Day
X-ALT-DESC;FMTTYPE=text/html:Leadership Menomonee Falls<br />\nVolunteer Day
LOCATION:
UID:e.596.180
SEQUENCE:3
DTSTAMP:20260423T100609Z
URL:http://business.fallschamber.com/events/details/lmf-volunteer-day-02-06-2013-180
END:VEVENT

END:VCALENDAR
