BEGIN:VCALENDAR
VERSION:2.0
PRODID:-//ChamberMaster//Event Calendar 2.0//EN
METHOD:PUBLISH
X-PUBLISHED-TTL:P3D
REFRESH-INTERVAL:P3D
CALSCALE:GREGORIAN
BEGIN:VEVENT
DTSTART:20140319T124500Z
DTEND:20140319T213000Z
X-MICROSOFT-CDO-ALLDAYEVENT:FALSE
SUMMARY:LMF Strategic Planning/Ethics
DESCRIPTION:Leadership Menomonee Falls\n\nStrategic Planning/Ethics
X-ALT-DESC;FMTTYPE=text/html:Leadership Menomonee Falls<br />\nStrategic Planning/Ethics
LOCATION:
UID:e.596.245
SEQUENCE:3
DTSTAMP:20260422T143810Z
URL:http://business.fallschamber.com/events/details/lmf-strategic-planning-ethics-03-19-2014-245
END:VEVENT

END:VCALENDAR
