BEGIN:VCALENDAR
VERSION:2.0
PRODID:-//ChamberMaster//Event Calendar 2.0//EN
METHOD:PUBLISH
X-PUBLISHED-TTL:P3D
REFRESH-INTERVAL:P3D
CALSCALE:GREGORIAN
BEGIN:VEVENT
DTSTART:20130320T124500Z
DTEND:20130320T213000Z
X-MICROSOFT-CDO-ALLDAYEVENT:FALSE
SUMMARY:LMF Strategic Planning & Business Ethics Session
DESCRIPTION:Leadership Menomonee Falls\n\nStrategic Planning and Business Ethics
X-ALT-DESC;FMTTYPE=text/html:Leadership Menomonee Falls<br />\nStrategic Planning and Business Ethics<br />\n
LOCATION:
UID:e.596.183
SEQUENCE:3
DTSTAMP:20260423T095911Z
URL:http://business.fallschamber.com/events/details/lmf-strategic-planning-business-ethics-session-03-20-2013-183
END:VEVENT

END:VCALENDAR
