BEGIN:VCALENDAR
VERSION:2.0
PRODID:-//ChamberMaster//Event Calendar 2.0//EN
METHOD:PUBLISH
X-PUBLISHED-TTL:P3D
REFRESH-INTERVAL:P3D
CALSCALE:GREGORIAN
BEGIN:VEVENT
DTSTART:20130912T170000Z
DTEND:20130913T213000Z
X-MICROSOFT-CDO-ALLDAYEVENT:FALSE
SUMMARY:LMF Road Rally
DESCRIPTION:Leadership Menomonee Falls\n\nRoad Rally
X-ALT-DESC;FMTTYPE=text/html:Leadership Menomonee Falls<br />\nRoad Rally
LOCATION:
UID:e.596.236
SEQUENCE:3
DTSTAMP:20260423T010829Z
URL:http://business.fallschamber.com/events/details/lmf-road-rally-09-12-2013-236
END:VEVENT

END:VCALENDAR
