BEGIN:VCALENDAR
VERSION:2.0
PRODID:-//ChamberMaster//Event Calendar 2.0//EN
METHOD:PUBLISH
X-PUBLISHED-TTL:P3D
REFRESH-INTERVAL:P3D
CALSCALE:GREGORIAN
BEGIN:VEVENT
DTSTART:20140416T124500Z
DTEND:20140416T213000Z
X-MICROSOFT-CDO-ALLDAYEVENT:FALSE
SUMMARY:LMF Leading with Purpose
DESCRIPTION:Leadership Menomonee Falls\n\nLeading with Purpose
X-ALT-DESC;FMTTYPE=text/html:Leadership Menomonee Falls<br />\nLeading with Purpose
LOCATION:
UID:e.596.246
SEQUENCE:3
DTSTAMP:20260422T143553Z
URL:http://business.fallschamber.com/events/details/lmf-leading-with-purpose-04-16-2014-246
END:VEVENT

END:VCALENDAR
