BEGIN:VCALENDAR
VERSION:2.0
PRODID:-//ChamberMaster//Event Calendar 2.0//EN
METHOD:PUBLISH
X-PUBLISHED-TTL:P3D
REFRESH-INTERVAL:P3D
CALSCALE:GREGORIAN
BEGIN:VEVENT
DTSTART:20140827T123000Z
DTEND:20140827T140000Z
X-MICROSOFT-CDO-ALLDAYEVENT:FALSE
SUMMARY:LMF Kick-Off Coffee
DESCRIPTION:Leadership Menomonee Falls\n\nKick-Off Coffee
X-ALT-DESC;FMTTYPE=text/html:Leadership Menomonee Falls<br />\nKick-Off Coffee
LOCATION:Davians N56W16300 Silver Spring Drive Menomonee Falls\, WI 53051
UID:e.596.338
SEQUENCE:3
DTSTAMP:20260420T071923Z
URL:http://business.fallschamber.com/events/details/lmf-kick-off-coffee-08-27-2014-338
END:VEVENT

END:VCALENDAR
