BEGIN:VCALENDAR
VERSION:2.0
PRODID:-//ChamberMaster//Event Calendar 2.0//EN
METHOD:PUBLISH
X-PUBLISHED-TTL:P3D
REFRESH-INTERVAL:P3D
CALSCALE:GREGORIAN
BEGIN:VEVENT
DTSTART:20130925T124500Z
DTEND:20130925T213000Z
X-MICROSOFT-CDO-ALLDAYEVENT:FALSE
SUMMARY:LMF History/Group & Team Dynamics
DESCRIPTION:Leadership Menomonee Falls\n\nHistory/Group & Team Dynamics
X-ALT-DESC;FMTTYPE=text/html:Leadership Menomonee Falls<br />\nHistory/Group &amp\; Team Dynamics
LOCATION:
UID:e.596.237
SEQUENCE:3
DTSTAMP:20260422T233929Z
URL:http://business.fallschamber.com/events/details/lmf-history-group-team-dynamics-09-25-2013-237
END:VEVENT

END:VCALENDAR
