BEGIN:VCALENDAR
VERSION:2.0
PRODID:-//ChamberMaster//Event Calendar 2.0//EN
METHOD:PUBLISH
X-PUBLISHED-TTL:P3D
REFRESH-INTERVAL:P3D
CALSCALE:GREGORIAN
BEGIN:VEVENT
DTSTART:20131016T124500Z
DTEND:20131016T213000Z
X-MICROSOFT-CDO-ALLDAYEVENT:FALSE
SUMMARY:LMF Education/Volunteerism
DESCRIPTION:Leadership Menomonee Falls\n\nEducation/Volunteerism
X-ALT-DESC;FMTTYPE=text/html:Leadership Menomonee Falls<br />\nEducation/Volunteerism
LOCATION:
UID:e.596.238
SEQUENCE:3
DTSTAMP:20260422T221452Z
URL:http://business.fallschamber.com/events/details/lmf-education-volunteerism-10-16-2013-238
END:VEVENT

END:VCALENDAR
