BEGIN:VCALENDAR
VERSION:2.0
PRODID:-//ChamberMaster//Event Calendar 2.0//EN
METHOD:PUBLISH
X-PUBLISHED-TTL:P3D
REFRESH-INTERVAL:P3D
CALSCALE:GREGORIAN
BEGIN:VEVENT
DTSTART:20130220T134500Z
DTEND:20130220T223000Z
X-MICROSOFT-CDO-ALLDAYEVENT:FALSE
SUMMARY:LMF Conflict Resolution/Change Management Session
DESCRIPTION:Leadership Menomonee Falls\n\nConflict Resolution/Change Management
X-ALT-DESC;FMTTYPE=text/html:Leadership Menomonee Falls<br />\nConflict Resolution/Change Management
LOCATION:
UID:e.596.181
SEQUENCE:3
DTSTAMP:20260423T095526Z
URL:http://business.fallschamber.com/events/details/lmf-conflict-resolution-change-management-session-02-20-2013-181
END:VEVENT

END:VCALENDAR
