BEGIN:VCALENDAR
VERSION:2.0
PRODID:-//ChamberMaster//Event Calendar 2.0//EN
METHOD:PUBLISH
X-PUBLISHED-TTL:P3D
REFRESH-INTERVAL:P3D
CALSCALE:GREGORIAN
BEGIN:VEVENT
DTSTART:20130417T124500Z
DTEND:20130417T213000Z
X-MICROSOFT-CDO-ALLDAYEVENT:FALSE
SUMMARY:LMF Commencement Planning/Leading with Purpose Session
DESCRIPTION:Leadership Menomonee Falls\n\nCommencement Planning\n\nLeading with Purpose Session
X-ALT-DESC;FMTTYPE=text/html:Leadership Menomonee Falls<br />\nCommencement Planning<br />\nLeading with Purpose Session
LOCATION:
UID:e.596.184
SEQUENCE:3
DTSTAMP:20260423T070613Z
URL:http://business.fallschamber.com/events/details/lmf-commencement-planning-leading-with-purpose-session-04-17-2013-184
END:VEVENT

END:VCALENDAR
