BEGIN:VCALENDAR
VERSION:2.0
PRODID:-//ChamberMaster//Event Calendar 2.0//EN
METHOD:PUBLISH
X-PUBLISHED-TTL:P3D
REFRESH-INTERVAL:P3D
CALSCALE:GREGORIAN
BEGIN:VEVENT
DTSTART:20130508T220000Z
DTEND:20130509T010000Z
X-MICROSOFT-CDO-ALLDAYEVENT:FALSE
SUMMARY:LMF Commencement 5/8/13
DESCRIPTION:Leadership Menomonee Falls\n\nClass of 2013 Commencement
X-ALT-DESC;FMTTYPE=text/html:Leadership Menomonee Falls<br />\nClass of 2013 Commencement
LOCATION:
UID:e.596.185
SEQUENCE:3
DTSTAMP:20260423T053518Z
URL:http://business.fallschamber.com/events/details/lmf-commencement-5-8-13-05-08-2013-185
END:VEVENT

END:VCALENDAR
