BEGIN:VCALENDAR
VERSION:2.0
PRODID:-//ChamberMaster//Event Calendar 2.0//EN
METHOD:PUBLISH
X-PUBLISHED-TTL:P3D
REFRESH-INTERVAL:P3D
CALSCALE:GREGORIAN
BEGIN:VEVENT
DTSTART:20140507T220000Z
DTEND:20140508T010000Z
X-MICROSOFT-CDO-ALLDAYEVENT:FALSE
SUMMARY:LMF Commencement\, 2014
DESCRIPTION:Leadership Menomonee Falls\n\nClass of 2014 Commencement Celebration
X-ALT-DESC;FMTTYPE=text/html:<span style="font-size: 20px\;"><span style="color: rgb(0\, 100\, 0)\;">Leadership Menomonee Falls<br />\nClass of 2014 Commencement Celebration</span></span>
LOCATION:Davians Banquet & Conference Center 16300 W. Silver Spring Drive Menomonee Falls\, WI 53051
UID:e.596.247
SEQUENCE:3
DTSTAMP:20260422T114106Z
URL:http://business.fallschamber.com/events/details/lmf-commencement-2014-05-07-2014-247
END:VEVENT

END:VCALENDAR
